BEGIN:VCALENDAR
VERSION:2.0
PRODID:-//wp-events-plugin.com//7.2.3.1//EN
TZID:Europe/Amsterdam
X-WR-TIMEZONE:Europe/Amsterdam
BEGIN:VEVENT
UID:39110@agenda-zaanstreek.nl
DTSTART;TZID=Europe/Amsterdam:20250628T120000
DTEND;TZID=Europe/Amsterdam:20250628T120000
DTSTAMP:20250609T095801Z
URL:https://agenda-zaanstreek.nl/events/roze-zaterdag-in-en-om-het-zaanthe
 ater/
SUMMARY:Roze zaterdag in en om het Zaantheater
DESCRIPTION:\n\nRoze Zaterdag\, een pride-traditie in Nederland\, komt in 2
 025 voor het eerst naar Zaanstad!\n\n\nWij hebben in de aanloop naar Roze 
 Zaterdag twee heerlijke voorstellingen om helemaal in de stemming te komen
 .\n\n 	ABBA The Music - donderdag 26 juni\n 	Kirsten van Teijn met Queer C
 lubavond - vrijdag 27 juni -&nbsp\;Op vertoon van je ticket voor de voorst
 elling van Kirsten van Teijn is de Queer Clubavond gratis te bezoeken!\n\n
 Roze Zaterdag in het Zaantheater!\n\nKleurrijk\, sprankelend\, liefdevol\,
  gorgeous en met glitter &amp\; glamour\; dàt is de festival zone in het 
 Zaantheater op 28 juni met performances\, DJ\, Drags\, food\, film en een 
 Queer Pop Up Store. Alle onderdelen zijn gratis te bezoeken\, met uitzonde
 ring van de theaterlezing.&nbsp\;\n\nHealthy &amp\; delicious foodtrucks\n
 Op het voorplein van het Zaantheater vind je vegan food en juicy smoothies
 . Ons theaterrestaurant en terras zijn open om even bij te komen om je ver
 volgens weer opgeladen in het feestgedruis te kunnen storten.\nVoorplein 1
 2.00 - 20.00 uur\n\nQueer Pop Up Store\nKom lekker grasduinen in onze Quee
 r Pop Up Store vol unieke items in de Laad &amp\; losruimte van de grote z
 aal. Ingang aan de achterzijde van het Zaantheater\, links naast de parkee
 rgarage.\nAchterzijde Zaantheater 13.00 - 18.00 uur.\n\nDragqueen DJ Heisa
  Jynx &amp\; live performance Drag party\nMurder the dancefloor met DJ Hei
 sa! Elk half uur wordt zij afgewisseld met performances van Skyla Versai\,
  Puma Hilton\, Mandy McCandy en Stevie Stunner.\nFoyer 14.00 - 18.00 uur\,
  met om 14.30\, 15.30 en 16.30 uur performances.\n\nGlobal Video’s van P
 layroom Galery\nGlobal Videos 2025 vertoont kunstvideo’s van kunstenaars
  uit diverse landen over lhbtiq+ rechten.&nbsp\;Met gratis vertoningen wer
 eldwijd creëert het project zichtbaarheid en solidariteit. Het initiatief
 \, onder leiding van Jeroen van Paassen\, bouwt voort op eerdere edities. 
 Op elk heel uur start de film met een inleiding door Jeroen.\nMeetingroom 
 14.00/15.00/16.00/17.00 uur\n\nTheaterlezing: Seksuele diversiteit in het 
 dierenrijk – Kleine Zaal\nStap in de veelkleurige wereld van seksuele di
 versiteit in het dierenrijk in dit interactieve theatercollege van ARTIS-b
 ioloog Charlotte Vermeulen\, en cabaretière Maya van As. Een interactieve
  en verrassende theaterlezing!\n\nKleine Zaal | 20.00 uur | € 21\,50 | J
 ongeren € 19\,- | &lt\;30 jaar: € 10\,50 (op de dag zelf\, indien besc
 hikbaar)\n\n
CATEGORIES:Sociaal | LHBTQI-gemeenschap
LOCATION:Zaantheater\, Nicolaasstraat 3\, Zaandam\, 1506 BB\, Nederland
X-APPLE-STRUCTURED-LOCATION;VALUE=URI;X-ADDRESS=Nicolaasstraat 3\, Zaandam\
 , 1506 BB\, Nederland;X-APPLE-RADIUS=100;X-TITLE=Zaantheater:geo:0,0
END:VEVENT
BEGIN:VTIMEZONE
TZID:Europe/Amsterdam
X-LIC-LOCATION:Europe/Amsterdam
BEGIN:DAYLIGHT
DTSTART:20250330T030000
TZOFFSETFROM:+0100
TZOFFSETTO:+0200
TZNAME:CEST
END:DAYLIGHT
END:VTIMEZONE
END:VCALENDAR