BEGIN:VCALENDAR
VERSION:2.0
PRODID:-//wp-events-plugin.com//7.2.3.1//EN
TZID:Europe/Amsterdam
X-WR-TIMEZONE:Europe/Amsterdam
BEGIN:VEVENT
UID:37136@agenda-zaanstreek.nl
DTSTART;TZID=Europe/Amsterdam:20250211T103000
DTEND;TZID=Europe/Amsterdam:20250211T120000
DTSTAMP:20250205T101959Z
URL:https://agenda-zaanstreek.nl/events/roze-loper-activiteit-mens-durftel
 even-met-14-februari-dag-van-de-liefde-bij-regenboog-saenden/
SUMMARY:Roze Loper Activiteit\, Mens Durfteleven met "14 februari - dag van
  de liefde" bij Regenboog Saenden
DESCRIPTION:Dinsdag 11 februari\nRoze Loper Activiteit\, Mens Durfteleven m
 et "14 februari - dag van de liefde" bij Regenboog\nSaenden. Zorgcirkel Sa
 enden\, Nova Zembla 2\, Zaandam. Van 10.30 tot 12.00 uur.\nInfo: receptie.
 saenden@zorgcirkel.nl
CATEGORIES:Sociaal | LHBTQI-gemeenschap
LOCATION:Zorgcirkel Saenden\, Nova Zembla 2\, Zaandam\, 1506 VD\, Nederland
X-APPLE-STRUCTURED-LOCATION;VALUE=URI;X-ADDRESS=Nova Zembla 2\, Zaandam\, 1
 506 VD\, Nederland;X-APPLE-RADIUS=100;X-TITLE=Zorgcirkel Saenden:geo:0,0
END:VEVENT
BEGIN:VTIMEZONE
TZID:Europe/Amsterdam
X-LIC-LOCATION:Europe/Amsterdam
BEGIN:STANDARD
DTSTART:20241027T020000
TZOFFSETFROM:+0200
TZOFFSETTO:+0100
TZNAME:CET
END:STANDARD
END:VTIMEZONE
END:VCALENDAR