BEGIN:VCALENDAR
VERSION:2.0
PRODID:-//wp-events-plugin.com//7.2.3.1//EN
TZID:Europe/Amsterdam
X-WR-TIMEZONE:Europe/Amsterdam
BEGIN:VEVENT
UID:37881@agenda-zaanstreek.nl
DTSTART;TZID=Europe/Amsterdam:20250426T120000
DTEND;TZID=Europe/Amsterdam:20250426T180000
DTSTAMP:20250325T102803Z
URL:https://agenda-zaanstreek.nl/events/royal-jazz-festival/
SUMMARY:Royal Jazz Festival
DESCRIPTION:Royal Jazz Festival\nZaterdag 26 april - 12:00 tot 18:00 uur\nG
 ratis toegang\n\nEr is dit jaar extra veel aandacht voor jong talent: de&n
 bsp\;West End Big Band&nbsp\;en de&nbsp\;Blue Tone Big Band&nbsp\;komen me
 t jonge solisten.&nbsp\;De Zaanse Ambassade&nbsp\;presenteert meerdere sol
 isten en natuurlijk komen de jonge musici van&nbsp\;Ratajazz&nbsp\;en&nbsp
 \;Ratatouille&nbsp\;weer.&nbsp\;Saskia Laroo&nbsp\;deelt deze keer het pod
 ium met de&nbsp\;Amerikaanse jazz-trombonist\, multi-instrumentalist en za
 nger Joseph Bowie. Hij is bekend als leider van de freefunk band Defunkt.&
 nbsp\;\n\nBUITENPODIUM\n12:00&nbsp\;&nbsp\;&nbsp\; FBI Jazzband\n14:00&nbs
 p\;&nbsp\;&nbsp\; The Caledonians\n16:00&nbsp\;&nbsp\;&nbsp\; Wouter Kiers
  Band\n\nPASVEERZAAL FLUXUS\n12:15&nbsp\;&nbsp\;&nbsp\; Zaanse Big Band\n1
 4:15&nbsp\;&nbsp\;&nbsp\; West End Big Band\n16:15&nbsp\;&nbsp\;&nbsp\; Ra
 tajazz\n\nPODIUM BULLEKERK\n12:00&nbsp\;&nbsp\;&nbsp\; Ratatouille\n13:30&
 nbsp\;&nbsp\;&nbsp\; Blue Tone Big Band\n15:00&nbsp\;&nbsp\;&nbsp\; De Zaa
 nse Ambassade met gasten\n16:30&nbsp\;&nbsp\;&nbsp\; Saskia Laroo Band &am
 p\; Joseph Bowie\n\nHet Festival vindt plaats&nbsp\;van 12.00 tot 18.00 uu
 r&nbsp\;op de Westzijde en wordt georganiseerd door Cultureel Centrum&nbsp
 \;Bullekerk&nbsp\;in samenwerking met FluXus.\n\nHet Festival is tot stand
  gekomen met steun van Gemeente Zaanstad.&nbsp\;
CATEGORIES:Jazz,Muziek
LOCATION:Cultureel Centrum Bullekerk (Westzijderkerk)\, Westzijde 75\, Zaan
 dam\, 1506 ED\, Nederland
X-APPLE-STRUCTURED-LOCATION;VALUE=URI;X-ADDRESS=Westzijde 75\, Zaandam\, 15
 06 ED\, Nederland;X-APPLE-RADIUS=100;X-TITLE=Cultureel Centrum Bullekerk (
 Westzijderkerk):geo:0,0
END:VEVENT
BEGIN:VTIMEZONE
TZID:Europe/Amsterdam
X-LIC-LOCATION:Europe/Amsterdam
BEGIN:DAYLIGHT
DTSTART:20250330T030000
TZOFFSETFROM:+0100
TZOFFSETTO:+0200
TZNAME:CEST
END:DAYLIGHT
END:VTIMEZONE
END:VCALENDAR