BEGIN:VCALENDAR
VERSION:2.0
PRODID:-//wp-events-plugin.com//7.2.3.1//EN
TZID:Europe/Amsterdam
X-WR-TIMEZONE:Europe/Amsterdam
BEGIN:VEVENT
UID:36772@agenda-zaanstreek.nl
DTSTART;TZID=Europe/Amsterdam:20250214T200000
DTEND;TZID=Europe/Amsterdam:20250214T200000
DTSTAMP:20250113T203206Z
URL:https://agenda-zaanstreek.nl/events/rotary-zaandam-popup-koor-love-cha
 rity-party/
SUMMARY:Rotary Zaandam – Popup Koor: Love Charity Party
DESCRIPTION:\n\n\n\n\n\n\n\n\n\n\n\n\n\n\n\n\n\n\n\n\n\n\n\n\nDoe jij mee m
 et het leukste Valentijn Pop-Up Koor van de Zaanstreek? Op vrijdag 14 febr
 uari brengen we het Valentijn Pop-up Koor bij elkaar voor het goede doel. 
 Zing je wel eens onder de douche of achter de stofzuiger? Tijd om je (stil
 le) geliefde uit volle borst toe te zingen!\n\nWe hebben Ruben Smits\, een
  van de beste dirigenten van Nederland\, gestrikt om dit koor\, samen met 
 Lucas de Bruin\, te begeleiden naar een fantastisch optreden. Na slechts e
 en klein uurtje oefenen zing je het dak van de kerk af. En daarna lekker d
 ansen met beeld en geluid van Dj Caspar van de Clip Club!\n\nNeem zoveel m
 ogelijk lieve familie en vrienden mee\, of nodig je hele kook- of sportclu
 b uit (natuurlijk met je stille liefde)\, dan zorgen we samen voor een Val
 entijn record-koor. Voor slechts € 20 ben je verzekerd van een plek én 
 steun je ook nog eens een geweldig goed doel.\n\nBereid je voor op een avo
 ndje win-win zingen! Join de Love Charity Party!\nMet je deelname onderste
 un je Next Level Chill Academy in Wormerveer.\n\nDit evenement wordt georg
 aniseerd door Rotary Club Zaanstad.\n\nAanvang: 20.00 uur\nDeuren open: 19
 .00 uur\n\nTickets: € 20 (+ € 1\,00 reserveringskosten)\n\n\n\n\n\n\n\
 n\n\n\n\nKoop tickets\n\n\n\n\n\n\n\n\n\n
CATEGORIES:Koren,Muziek
LOCATION:Cultureel Centrum Bullekerk (Westzijderkerk)\, Westzijde 75\, Zaan
 dam\, 1506 ED\, Nederland
X-APPLE-STRUCTURED-LOCATION;VALUE=URI;X-ADDRESS=Westzijde 75\, Zaandam\, 15
 06 ED\, Nederland;X-APPLE-RADIUS=100;X-TITLE=Cultureel Centrum Bullekerk (
 Westzijderkerk):geo:0,0
END:VEVENT
BEGIN:VTIMEZONE
TZID:Europe/Amsterdam
X-LIC-LOCATION:Europe/Amsterdam
BEGIN:STANDARD
DTSTART:20241027T020000
TZOFFSETFROM:+0200
TZOFFSETTO:+0100
TZNAME:CET
END:STANDARD
END:VTIMEZONE
END:VCALENDAR