BEGIN:VCALENDAR
VERSION:2.0
PRODID:-//wp-events-plugin.com//7.2.3.1//EN
TZID:Europe/Amsterdam
X-WR-TIMEZONE:Europe/Amsterdam
BEGIN:VEVENT
UID:32205@agenda-zaanstreek.nl
DTSTART;TZID=Europe/Amsterdam:20241206T200000
DTEND;TZID=Europe/Amsterdam:20241206T200000
DTSTAMP:20240408T095345Z
URL:https://agenda-zaanstreek.nl/events/roots-aande-zaan-the-sandy-denny-p
 roject/
SUMMARY:Roots aande Zaan - The Sandy Denny Project
DESCRIPTION:Ook al heeft de magistrale zangeres Sandy Denny (1947-1978) al 
 bijna een halve eeuw geleden het tijdelijke met het eeuwige verwisseld\, h
 aar muziek\nbeklijft. Solo\, met Fotheringay en natuurlijk met Fairport Co
 nvention\, ze heeft generaties be- en ontroerd.&nbsp\;\nTributes zijn er a
 l geregeld geweest\, en dat hoort ook\, deze muziek moet in leven gehouden
  worden. Zo ook bij Roots aan de Zaan.\nPJ Wright speelde eerder hier in Z
 aandam\, als lid van Fifteen String Trio (2013)\, Fotheringay (2016) en TR
 ADarrr (2019). Bassist Mat Davies was hier\nmet datzelfde Fifteen String T
 rio. Mark Stevens - op de drumstoel - is eveneens lid van TRADarrr\, waari
 n ook Marion Fleetwood speelt\, die eerder óók\ntweemaal bij ons te zien
  was als (inmiddels ex-)lid van The Jigantics en solo als support voor Kat
 hryn Roberts &amp\; Sean Lakeman. Wright\, Davies en\nStevens waren ook oo
 it lid van de folkrockers Little Johnny England. Volgt u het nog?\nZo ja\,
  dan hebben we ook nog Sally Barker\, gastvocaliste bij Fotheringay (ooit 
 in september 2016 ons eerste concert in wat nu de Pasveerzaal heet)\,\nèn
  in 2014 verrassend finaliste van The Voice UK – eveneens ex-lid van The
  Poozies. Het sextet wordt gecompleteerd door toetseniste/zangeres&nbsp\; 
 Gemma Shirley (ook eerder hier als TRADarrr lid).\nSandy Denny’s dochter
  Georgia meldde over deze groep: 'These pioneers of folk bring a whole lot
  of professional awesomeness to the table with The Sandy Denny Project&nbs
 p\; Covering some of my mum’s best work and doing an outstanding job of 
 keeping her flame alive\, these six highly talented musicians once again b
 ring their creative musical powers together to celebrate Sandy’s genius 
 with new shine and brilliance’.\n&nbsp\;&nbsp\;\nDe andere vier of vijf 
 (er is er nog één onzeker) concerten staan in de mei-nieuwsbrief in\nde 
 schijnwerpers. Tegen die tijd hopen we alles ook op de website te hebben.\
 nBestel nu dus nog even geen kaartjes: er zijn er genoeg\, straks\, in de 
 loop van april&nbsp\;
CATEGORIES:Muziek
LOCATION:Fluxus\, centrum voor de kunsten - locatie muziek\, Westzijde 148\
 , Zaandam\, 1506 EK\, Nederland
X-APPLE-STRUCTURED-LOCATION;VALUE=URI;X-ADDRESS=Westzijde 148\, Zaandam\, 1
 506 EK\, Nederland;X-APPLE-RADIUS=100;X-TITLE=Fluxus\, centrum voor de kun
 sten - locatie muziek:geo:0,0
END:VEVENT
BEGIN:VTIMEZONE
TZID:Europe/Amsterdam
X-LIC-LOCATION:Europe/Amsterdam
BEGIN:STANDARD
DTSTART:20241027T020000
TZOFFSETFROM:+0200
TZOFFSETTO:+0100
TZNAME:CET
END:STANDARD
END:VTIMEZONE
END:VCALENDAR