BEGIN:VCALENDAR
VERSION:2.0
PRODID:-//wp-events-plugin.com//7.2.3.1//EN
TZID:Europe/Amsterdam
X-WR-TIMEZONE:Europe/Amsterdam
BEGIN:VEVENT
UID:32204@agenda-zaanstreek.nl
DTSTART;TZID=Europe/Amsterdam:20241109T200000
DTEND;TZID=Europe/Amsterdam:20241109T200000
DTSTAMP:20241023T130103Z
URL:https://agenda-zaanstreek.nl/events/roots-aan-de-zaan-gudrun-walther-a
 ndy-cutting/
SUMMARY:Roots aan de Zaan - Gudrun Walther & Andy Cutting
DESCRIPTION:Gudrun Walther en Andy Cutting nemen de luisteraar mee op een u
 nieke transeuropese reis laverend tussen Engelse en Duitse traditionele so
 ngs\, nieuwe composities en fraaie instrumentals.&nbsp\;\nSimpelweg: folk 
 music from Europe\, zoals ze het zelf adverteren.\nGudrun en Andy ontmoett
 en elkaar in de jaren ’90 tijdens informele sessies.&nbsp\;\nLange tijd 
 was er het plan samen te&nbsp\; erken\, maar de agenda’s pasten nooit ec
 ht goed bij elkaar. Eindelijk lukt het wél\, en werd er een tour&nbsp\; s
 amengesteld. Dat zou in maart 2020 zijn. We weten allemaal wat er vervolge
 ns gebeurde. Wel verscheen het prijswinnende album Conversations\, en kond
 en ze in 2022 alsnog aan een tour beginnen\, 27 jaar nadat het idee geoppe
 rd werd. En nu dan wederom\, ditmaal naar Zaandam.\nAndy Cutting won de BB
 C Folk Awards Musician of the Year award driemaal\, is solo actief maar oo
 k lid van Leveret\, Topette! en Blowzabella\, met wie hij\ntweemaal eerder
  op het Roots aan de Podium stond. Hij werkte met Kate Rusby\, John McCusk
 er\, June Tabor\, Martin Simpson - en buiten de folkhoek\nook met bijvoorb
 eeld Sting en Roger Daltrey. Ook Gudrun Walther was eerder bij Roots aan d
 e Zaan te zien\, en wel in 2015 als lid van de band Cara. Ze is een belang
 rijke figuur in de Duitse folkrevival. ‘An inspiring\, magical and exqui
 site listen from two of the finest musicians on the European trad scene’
  - Songlines Kaartjes kosten €21 en donateurs betalen €14.&nbsp\;\n\nR
 oots aan de Zaan presenteert: &nbsp\;Gudrun Walther &amp\; Andy Cutting\n\
 nRoots aan de Zaan is terug in de Pasveerzaal van de FluXus muziekschool! 
 Met dit keer een concert van Gudrun Walther &amp\; Andy Cutting. Ze nemen 
 de luisteraar mee op een unieke trans-Europese reis laverend tussen Engels
 e en Duitse traditionele songs\, nieuwe composities en fraaie instrumental
 s. Simpelweg: folk music from Europe\, zoals ze het zelf adverteren.\n\nLo
 catie: Pasveerzaal\, FluXus Muziekschool\, Westzijde 148\, Zaandam\n\nDatu
 m: 9 november\n\nTijd: 20.00 uur (inloop vanaf 19.30)\n\nEntree: Standaard
 prijs € 21\,00\, jongeren (tot 18 jaar) € 10\,50\, donateursprijs € 
 14\,00\n\nReserveren en meer info: via de Roots aan de Zaan\n\nhttps://roo
 tsaandezaan.nl/gudrun-walther-andy-cutting/2024/
CATEGORIES:Muziek
LOCATION:Fluxus\, centrum voor de kunsten - locatie muziek\, Westzijde 148\
 , Zaandam\, 1506 EK\, Nederland
X-APPLE-STRUCTURED-LOCATION;VALUE=URI;X-ADDRESS=Westzijde 148\, Zaandam\, 1
 506 EK\, Nederland;X-APPLE-RADIUS=100;X-TITLE=Fluxus\, centrum voor de kun
 sten - locatie muziek:geo:0,0
END:VEVENT
BEGIN:VTIMEZONE
TZID:Europe/Amsterdam
X-LIC-LOCATION:Europe/Amsterdam
BEGIN:STANDARD
DTSTART:20241027T020000
TZOFFSETFROM:+0200
TZOFFSETTO:+0100
TZNAME:CET
END:STANDARD
END:VTIMEZONE
END:VCALENDAR