BEGIN:VCALENDAR
VERSION:2.0
PRODID:-//wp-events-plugin.com//7.2.3.1//EN
TZID:Europe/Amsterdam
X-WR-TIMEZONE:Europe/Amsterdam
BEGIN:VEVENT
UID:38564@agenda-zaanstreek.nl
DTSTART;TZID=Europe/Amsterdam:20250517T200000
DTEND;TZID=Europe/Amsterdam:20250517T200000
DTSTAMP:20250506T093940Z
URL:https://agenda-zaanstreek.nl/events/roots-aan-de-zaan-flook-uitverkoch
 t/
SUMMARY:Roots aan de Zaan - Flook - Uitverkocht
DESCRIPTION:Zaterdag 17 mei om 20.00 uur&nbsp\;\n\nAvond van Roots aan de Z
 aan in de Vermaning.\n\nDe Anglo-Ierse band Flook heeft een compleet eigen
  geluid\, met traditioneel gewortelde muziek\, een akoestische groove en e
 en zeldzame mix van technisch kunnen.\nHoewel ze in hun live-shows zeker h
 un oude albums niet zullen overslaan\, evolueert hun muziek voortdurend. N
 u\, na dertig jaar\, spelen deze vier vrienden nog steeds graag samen – 
 en wel op de top van hun kunnen.\n\nEvenement is UITVERKOCHT\,\n\nemail: r
 ootsaandezaan@gmail.com voor wachtlijst.
CATEGORIES:Muziek
LOCATION:Wormerveerse Vermaning\, Zaanweg 57\, Wormerveer\, 1521 DM\, Neder
 land
X-APPLE-STRUCTURED-LOCATION;VALUE=URI;X-ADDRESS=Zaanweg 57\, Wormerveer\, 1
 521 DM\, Nederland;X-APPLE-RADIUS=100;X-TITLE=Wormerveerse Vermaning:geo:0
 ,0
END:VEVENT
BEGIN:VTIMEZONE
TZID:Europe/Amsterdam
X-LIC-LOCATION:Europe/Amsterdam
BEGIN:DAYLIGHT
DTSTART:20250330T030000
TZOFFSETFROM:+0100
TZOFFSETTO:+0200
TZNAME:CEST
END:DAYLIGHT
END:VTIMEZONE
END:VCALENDAR