BEGIN:VCALENDAR
VERSION:2.0
PRODID:-//wp-events-plugin.com//7.2.3.1//EN
TZID:Europe/Amsterdam
X-WR-TIMEZONE:Europe/Amsterdam
BEGIN:VEVENT
UID:35800@agenda-zaanstreek.nl
DTSTART;TZID=Europe/Amsterdam:20241220T190000
DTEND;TZID=Europe/Amsterdam:20241220T190000
DTSTAMP:20241114T090030Z
URL:https://agenda-zaanstreek.nl/events/rondrit-langs-versierde-en-verlich
 te-huizen-en-tuinen/
SUMMARY:Rondrit langs versierde en verlichte huizen en tuinen
DESCRIPTION:Zin in een ritje langs versierde en verlichte huizen en tuinen\
 , maar niet in het bezit van een auto? Op vrijdag 20 december staat er om 
 zeven uur een bus van Rayline op de Klaverweide.&nbsp\;\n\n\nDe bus staat 
 klaar.&nbsp\;(Foto: Aangeleverd)\n\nDeze gaat een aantal mensen rondrijden
  door de mooie omgeving: de Haal\, Den Ilp\, Landsmeer. Onderweg mag er ge
 babbeld worden\, gezongen\, maar ook gezwegen bij het bekijken van zoveel 
 mooie lichtjes die de mensen hebben aangebracht.\nDe deuren van de bus sta
 an open voor iedereen die zich heeft aangemeld voor een ritje. De bus is e
 r voor mensen die graag samen met anderen willen genieten van de heerlijk 
 verlichte huizen\, tuinen\, buurten. Van de kerstbomen\, de versieringen e
 n van elkaar in de bus. In de bus wordt een alcoholvrij drankje aangeboden
 \, een lekker hapje erbij\, het is er behaaglijk warm en er wordt een supe
 rfijne avond van gemaakt.\nWie mee wil doen moet zich wel even melden. Ied
 ereen mag mee\, en belangrijk: laat de portemonnee maar thuis. Alles voor 
 de onderlinge saamhorigheid. Het Warme Huis\, Oostzaners voor Elkaar\, nod
 igt iedereen uit die dit heerlijke ritje wel ziet zitten en wenst bij voor
 baat iedereen mooie feestdagen. Meedoen? Bel naar 06-7371882\n\n
CATEGORIES:Sociaal
LOCATION:Oostzaan\, -\, -\, Nederland
X-APPLE-STRUCTURED-LOCATION;VALUE=URI;X-ADDRESS=-\, -\, Nederland;X-APPLE-R
 ADIUS=100;X-TITLE=Oostzaan:geo:0,0
END:VEVENT
BEGIN:VTIMEZONE
TZID:Europe/Amsterdam
X-LIC-LOCATION:Europe/Amsterdam
BEGIN:STANDARD
DTSTART:20241027T020000
TZOFFSETFROM:+0200
TZOFFSETTO:+0100
TZNAME:CET
END:STANDARD
END:VTIMEZONE
END:VCALENDAR