BEGIN:VCALENDAR
VERSION:2.0
PRODID:-//wp-events-plugin.com//7.2.3.1//EN
TZID:Europe/Amsterdam
X-WR-TIMEZONE:Europe/Amsterdam
BEGIN:VEVENT
UID:35708@agenda-zaanstreek.nl
DTSTART;TZID=Europe/Amsterdam:20241115T141500
DTEND;TZID=Europe/Amsterdam:20241115T141500
DTSTAMP:20241107T102916Z
URL:https://agenda-zaanstreek.nl/events/rondleiding-zamu-zaanstad-amsterda
 m-museum/
SUMMARY:Rondleiding ZAMU (Zaanstad Amsterdam Museum)
DESCRIPTION:Met genoegen nodigen wij je uit voor een bijzondere bijeenkomst
  op&nbsp\;vrijdagmiddag 15 november 2024&nbsp\;bij&nbsp\;ZAMU&nbsp\;(Zaans
 tad Amsterdam Museum) aan het Vulhuis op het Hembrugterrein. Dit unieke pr
 oject is volop in ontwikkeling en zal de komende jaren uitgroeien tot een 
 toonaangevend museum van formaat. Tijdens een exclusieve preview krijg je 
 de kans om als een van de eersten het museum in wording te bewonderen.\n\n
 \nFoto's door:&nbsp\;Erik en Petra van Hesmerg\n\nProgramma\n\nWe verzamel
 en om&nbsp\;14.15 uur&nbsp\;in Lab44 aan de Middenweg. Na het welkomswoord
  leidt kunstenaar Jasper Krabbé ons door de verschillende hallen van het 
 museum om te eindigen in de hal op de kop van het Hembrugterrein aan het V
 ulhuis 2. Tijdens deze rondleiding geeft Krabbé een inkijkje in het omvan
 grijke project en praat hij je bij over de visie achter dit levenswerk\, d
 at een indrukwekkende collectie van wereldberoemde kunstenaars zal huisves
 ten. Daarnaast maken we een wandeling door de prachtige tuin\, ontworpen d
 oor de internationaal vermaarde landschapsarchitect Piet Oudolf\, die een 
 integraal onderdeel van de museumervaring zal vormen.\n\nZAMU begint haar 
 eerste tentoonstellingen met werken van vijf invloedrijke naoorlogse kunst
 enaars\, waaronder John Chamberlain en Frank Stella. De speciaal ontworpen
  ruimtes bieden een ongekende mogelijkheid om kunstwerken op grote schaal 
 te bewonderen.\n\nOm 16.00 uur keren we terug naar LAB44 voor een hapje en
  een drankje.\n\nBelangrijk:&nbsp\;De informatie die tijdens deze bijeenko
 mst wordt gedeeld\, is vertrouwelijk. Het is&nbsp\;niet toegestaan&nbsp\;o
 m foto’s te maken van de hallen en de kunstwerken"\n\nInschrijving kan&n
 bsp\;uitsluitend&nbsp\;via de onderstaande betaallink:\nhttps://www.ticket
 kantoor.nl/shop/ZAMU\n\nVoor een routebeschrijving en parkeermogelijkheden
  zie de onderstaande link naar plattegrondtekening.\n\nhttps://mcuserconte
 nt.com/851d0e27e8a105e47fcb294b6/images/7bee961b-e93c-f57d-9395-625e0091be
 e1.jpeg\n\nWij hopen je te mogen verwelkomen voor deze exclusieve voorproe
 f van wat ZAMU te bieden heeft.\n\nMet vriendelijke groet\,\n\nGuido Voss\
 n\nDe Maatschappij Zaanstreek - Waterland
CATEGORIES:Excursie
LOCATION:Lab 44 voor makers en eters\, Hembrugterrein - Middenweg 44\, Zaan
 dam\, 1506 PP\, Nederland
X-APPLE-STRUCTURED-LOCATION;VALUE=URI;X-ADDRESS=Hembrugterrein - Middenweg 
 44\, Zaandam\, 1506 PP\, Nederland;X-APPLE-RADIUS=100;X-TITLE=Lab 44 voor 
 makers en eters:geo:0,0
END:VEVENT
BEGIN:VTIMEZONE
TZID:Europe/Amsterdam
X-LIC-LOCATION:Europe/Amsterdam
BEGIN:STANDARD
DTSTART:20241027T020000
TZOFFSETFROM:+0200
TZOFFSETTO:+0100
TZNAME:CET
END:STANDARD
END:VTIMEZONE
END:VCALENDAR