BEGIN:VCALENDAR
VERSION:2.0
PRODID:-//wp-events-plugin.com//7.2.3.1//EN
TZID:Europe/Amsterdam
X-WR-TIMEZONE:Europe/Amsterdam
BEGIN:VEVENT
UID:39862@agenda-zaanstreek.nl
DTSTART;TZID=Europe/Amsterdam:20250829T140000
DTEND;TZID=Europe/Amsterdam:20250829T140000
DTSTAMP:20250807T091331Z
URL:https://agenda-zaanstreek.nl/events/rondleiding-de-metamorfose-van-het
 -centrum-van-zaandam/
SUMMARY:Rondleiding: de metamorfose van het centrum van Zaandam
DESCRIPTION:\n\nMeer dan twintig jaar geleden startte de ingrijpende vernie
 uwing van het stadshart van Zaandam. Tegenwoordig trekken de gedurfde sted
 enbouwkundige ingrepen en de uitgesproken architectuur\, die op uiteenlope
 nde manieren verwijzen naar de cultuurhistorie van de Zaanstreek\, bezoeke
 rs en toeristen uit binnen- en buitenland.\n\n\n\n\n\n\n\nMaar is het Zaan
 stad ook gelukt om daarmee een aangenaam en toegankelijk woon- en verblijf
 sgebied te creëren\, waar iedereen zich welkom voelt? Onze BabelGidsen ne
 men je mee op een tocht door het centrumgebied van Zaandam. Onderweg verte
 llen ze over de ideeën en verwachtingen achter de vernieuwing. We laten e
 en aantal aansprekende en succesvolle ingrepen en resultaten zien\, maar o
 ok plekken die nog verbetering nodig hebben. Het stadshart is onderdeel va
 n een veel grotere gebiedsontwikkeling\, die nog steeds gaande is. Ook daa
 raan besteden we aandacht tijdens onze wandeling.\nPraktische informatie\n
 De rondleiding vindt plaats op vrijdag 29 augustus om 14.00 uur. We starte
 n op het Stadhuisplein in Zaandam\, voor de ingang van het stadhuis. Deeln
 ame kost €10. We vragen je dit bedrag vóór aanvang gepast en contant t
 e voldoen. Meld je aan via het formulier onderaan deze pagina.\n\nStichtin
 g Babel - Rondleiding: de metamorfose van het centrum van Zaandam\n\n\n\n
CATEGORIES:Excursie
LOCATION:Gemeentehuis Zaanstad\, Stadhuisplein 100\, Zaandam\, 1506 MZ\, Ne
 derland
X-APPLE-STRUCTURED-LOCATION;VALUE=URI;X-ADDRESS=Stadhuisplein 100\, Zaandam
 \, 1506 MZ\, Nederland;X-APPLE-RADIUS=100;X-TITLE=Gemeentehuis Zaanstad:ge
 o:0,0
END:VEVENT
BEGIN:VTIMEZONE
TZID:Europe/Amsterdam
X-LIC-LOCATION:Europe/Amsterdam
BEGIN:DAYLIGHT
DTSTART:20250330T030000
TZOFFSETFROM:+0100
TZOFFSETTO:+0200
TZNAME:CEST
END:DAYLIGHT
END:VTIMEZONE
END:VCALENDAR