BEGIN:VCALENDAR
VERSION:2.0
PRODID:-//wp-events-plugin.com//7.2.3.1//EN
TZID:Europe/Amsterdam
X-WR-TIMEZONE:Europe/Amsterdam
BEGIN:VEVENT
UID:39090@agenda-zaanstreek.nl
DTSTART;TZID=Europe/Amsterdam:20250613T000000
DTEND;TZID=Europe/Amsterdam:20250613T000000
DTSTAMP:20250605T100018Z
URL:https://agenda-zaanstreek.nl/events/rondleiding-cacaofabriek-cargill-d
 e-eenhoorn-volgeboekt/
SUMMARY:Rondleiding cacaofabriek Cargill-De Eenhoorn – volgeboekt
DESCRIPTION:&nbsp\;\n\n\nZanstad opent zelden de deuren van haar chocoladef
 abrieken voor het publiek. Dit is je kans om van dichtbij te zien wat het 
 bedrijf maakt van de vele tonnen cacaobonen die het jaarlijks verwerkt.\n\
 n
CATEGORIES:Excursie
LOCATION:Wormer\, -\, -\, Nederland
X-APPLE-STRUCTURED-LOCATION;VALUE=URI;X-ADDRESS=-\, -\, Nederland;X-APPLE-R
 ADIUS=100;X-TITLE=Wormer:geo:0,0
END:VEVENT
BEGIN:VTIMEZONE
TZID:Europe/Amsterdam
X-LIC-LOCATION:Europe/Amsterdam
BEGIN:DAYLIGHT
DTSTART:20250330T030000
TZOFFSETFROM:+0100
TZOFFSETTO:+0200
TZNAME:CEST
END:DAYLIGHT
END:VTIMEZONE
END:VCALENDAR