BEGIN:VCALENDAR
VERSION:2.0
PRODID:-//wp-events-plugin.com//7.2.3.1//EN
TZID:Europe/Amsterdam
X-WR-TIMEZONE:Europe/Amsterdam
BEGIN:VEVENT
UID:40903@agenda-zaanstreek.nl
DTSTART;TZID=Europe/Amsterdam:20251223T140000
DTEND;TZID=Europe/Amsterdam:20251223T140000
DTSTAMP:20251218T102003Z
URL:https://agenda-zaanstreek.nl/events/ronald-snijders-als-mens/
SUMMARY:Ronald Snijders - Als mens
DESCRIPTION:\n\n\n\n\n\ndi 23 dec 202514.00\nKleine Zaal\n€24\,50\nCabare
 t\n\nFavoriet\nLaatste kans\n\n\n\n\n\n\n\n\n 	&nbsp\;\n 	Theater\n 	Agend
 a\n 	Seizoen 2025-2026\n 	Ronald Snijders\n\n\n\n\n\n\n\n\n 	&nbsp\;\n&nbs
 p\;\n 	Cabaret\n\n\n\n\n“Een van zijn beste voorstellingen”\, roemt de
  Volkskrant (★★★★)&nbsp\;Als Mens. Volgens het NRC behoorde&nbsp\;
 Als Mens&nbsp\;ook nog eens tot de 10 beste voorstellingen van 2024. De wa
 rrig gekapte komiek van de talige nonsens vertelt dit keer over zijn echte
  leven\, als mens. Wie is de man achter de absurdist? En hoe is-ie daar 
 zo gekomen? Al zal hij toch ook gewoon weer met oneliners strooien\, vreem
 de liedjes zingen en over de randen van de logica heen banjeren.\n\n\n\n\n
CATEGORIES:Cabaret
LOCATION:Zaantheater\, Nicolaasstraat 3\, Zaandam\, 1506 BB\, Nederland
X-APPLE-STRUCTURED-LOCATION;VALUE=URI;X-ADDRESS=Nicolaasstraat 3\, Zaandam\
 , 1506 BB\, Nederland;X-APPLE-RADIUS=100;X-TITLE=Zaantheater:geo:0,0
END:VEVENT
BEGIN:VTIMEZONE
TZID:Europe/Amsterdam
X-LIC-LOCATION:Europe/Amsterdam
BEGIN:STANDARD
DTSTART:20251026T020000
TZOFFSETFROM:+0200
TZOFFSETTO:+0100
TZNAME:CET
END:STANDARD
END:VTIMEZONE
END:VCALENDAR