BEGIN:VCALENDAR
VERSION:2.0
PRODID:-//wp-events-plugin.com//7.2.3.1//EN
TZID:Europe/Amsterdam
X-WR-TIMEZONE:Europe/Amsterdam
BEGIN:VEVENT
UID:40899@agenda-zaanstreek.nl
DTSTART;TZID=Europe/Amsterdam:20251219T170000
DTEND;TZID=Europe/Amsterdam:20251219T170000
DTSTAMP:20251218T090157Z
URL:https://agenda-zaanstreek.nl/events/rommelmarkt-voor-warchild-op-hembr
 ugterrein/
SUMMARY:Rommelmarkt voor Warchild op Hembrugterrein
DESCRIPTION:\nBind houdt op 19 december een rommelmarkt tijdens het jaarlij
 kse Adventivent op het Hembrugterrein. De volledige opbrengst gaat naar Wa
 rchild\, een organisatie die kinderen in conflictgebieden wereldwijd helpt
 .\n\n\n\n\nWellicht scoor je wel voor een prikkie zo'n heerlijk foute kers
 ttrui op de rommelmarkt...&nbsp\;(Foto: Adobe)\n\n&nbsp\;\nHet Adventivent
  biedt bezoekers de kans om zich tijdens de donkere maanden te warmen aan 
 licht en gezelligheid. De rommelmarkt vormt dit jaar een onderdeel van de 
 kerstmarkt. Bezoekers kunnen snuffelen tussen de spulletjes en tot het laa
 tste moment nog items doneren voor de verkoop.\nLokale producten en glühw
 ein\nNaast de rommelmarkt vinden bezoekers er zelfgemaakte lokale producte
 n zoals sjaals\, armbandjes\, bijzondere jams en natuurlijke zeepjes. Vana
 f 17.00 uur geuren glühwein en houtvuur de bezoekers tegemoet.\n\nDe toeg
 ang tot het evenement is gratis. Mensen die spullen willen doneren voor de
  rommelmarkt kunnen contact opnemen via telefoonnummer 06-30 09 24 81.\n\n
 Bron: Rodi\n\n
CATEGORIES:Markt Braderie
LOCATION:BIND ruimte voor creatieviteit\, Hembrugterrein\, Middenweg 107\, 
 Zaandam\, 1505 RK\, Nederland
X-APPLE-STRUCTURED-LOCATION;VALUE=URI;X-ADDRESS=Hembrugterrein\, Middenweg 
 107\, Zaandam\, 1505 RK\, Nederland;X-APPLE-RADIUS=100;X-TITLE=BIND ruimte
  voor creatieviteit:geo:0,0
END:VEVENT
BEGIN:VTIMEZONE
TZID:Europe/Amsterdam
X-LIC-LOCATION:Europe/Amsterdam
BEGIN:STANDARD
DTSTART:20251026T020000
TZOFFSETFROM:+0200
TZOFFSETTO:+0100
TZNAME:CET
END:STANDARD
END:VTIMEZONE
END:VCALENDAR