BEGIN:VCALENDAR
VERSION:2.0
PRODID:-//wp-events-plugin.com//7.2.3.1//EN
TZID:Europe/Amsterdam
X-WR-TIMEZONE:Europe/Amsterdam
BEGIN:VEVENT
UID:40897@agenda-zaanstreek.nl
DTSTART;TZID=Europe/Amsterdam:20251220T203000
DTEND;TZID=Europe/Amsterdam:20251220T203000
DTSTAMP:20251216T180127Z
URL:https://agenda-zaanstreek.nl/events/rockband-rackit-en-poppunkband-404
 -not-found/
SUMMARY:Rockband Rackit en poppunkband 404 Not Found
DESCRIPTION:Zaterdag 29 december spelen er maar liefst 2 bandjes in Eetcaf
 é Sman Wormerveer! We starten met rockband Rackit en poppunkband 404 Not 
 Foundsluit de avond af! Tot dan
CATEGORIES:Horeca,Muziek
LOCATION:Café Sman\,  Zaanweg 2\,\, Wormerveer\, 1521 DH\, Nederland
X-APPLE-STRUCTURED-LOCATION;VALUE=URI;X-ADDRESS= Zaanweg 2\,\, Wormerveer\,
  1521 DH\, Nederland;X-APPLE-RADIUS=100;X-TITLE=Café Sman:geo:0,0
END:VEVENT
BEGIN:VTIMEZONE
TZID:Europe/Amsterdam
X-LIC-LOCATION:Europe/Amsterdam
BEGIN:STANDARD
DTSTART:20251026T020000
TZOFFSETFROM:+0200
TZOFFSETTO:+0100
TZNAME:CET
END:STANDARD
END:VTIMEZONE
END:VCALENDAR