BEGIN:VCALENDAR
VERSION:2.0
PRODID:-//wp-events-plugin.com//7.2.3.1//EN
TZID:Europe/Amsterdam
X-WR-TIMEZONE:Europe/Amsterdam
BEGIN:VEVENT
UID:38581@agenda-zaanstreek.nl
DTSTART;TZID=Europe/Amsterdam:20250516T203000
DTEND;TZID=Europe/Amsterdam:20250516T203000
DTSTAMP:20250508T074546Z
URL:https://agenda-zaanstreek.nl/events/rob-en-emiel-best-of/
SUMMARY:Rob en Emiel - Best of...
DESCRIPTION:\n\n\n 	Theatershow\n\n\n\n\nMagische entertainers Rob &amp\; E
 miel werken al ruim 20 jaar samen en komen geregeld over de vloer in het Z
 aantheater. Met psychologische en vaak interactieve acts brengen ze magie 
 op hoogstaand niveau. Ze dagen het volwassen publiek uit mysteries te bele
 ven en laten recht voor je ogen wonderbaarlijke dingen gebeuren. Verwonder
 ing gegarandeerd! Je hoeft er alleen voor te zorgen dat je erbij bent.\n\n
 \n\n\n\n\nSpeciaal voor het Zaantheater duiken ze voor een unieke show in 
 hun&nbsp\;Best of… vol met prijswinnende acts en misschien ook wel nieuw
 e schatten. Ze schreven meerdere malen het Nederlands Kampioenschap én he
 t Wereldkampioenschap voor de magische kunsten op hun naam. Het wordt gega
 randeerd een betoverende avond.\n\n\nLees meer\n\n\n\n\nPrijzen\n\n\n\n\n\
 n\nvr16 mei 202520.30Albert HeijnzaalBestel\n\n
CATEGORIES:Theater
LOCATION:Zaantheater\, Nicolaasstraat 3\, Zaandam\, 1506 BB\, Nederland
X-APPLE-STRUCTURED-LOCATION;VALUE=URI;X-ADDRESS=Nicolaasstraat 3\, Zaandam\
 , 1506 BB\, Nederland;X-APPLE-RADIUS=100;X-TITLE=Zaantheater:geo:0,0
END:VEVENT
BEGIN:VTIMEZONE
TZID:Europe/Amsterdam
X-LIC-LOCATION:Europe/Amsterdam
BEGIN:DAYLIGHT
DTSTART:20250330T030000
TZOFFSETFROM:+0100
TZOFFSETTO:+0200
TZNAME:CEST
END:DAYLIGHT
END:VTIMEZONE
END:VCALENDAR