BEGIN:VCALENDAR
VERSION:2.0
PRODID:-//wp-events-plugin.com//7.2.3.1//EN
TZID:Europe/Amsterdam
X-WR-TIMEZONE:Europe/Amsterdam
BEGIN:VEVENT
UID:36346@agenda-zaanstreek.nl
DTSTART;TZID=Europe/Amsterdam:20250215T203000
DTEND;TZID=Europe/Amsterdam:20250215T203000
DTSTAMP:20241212T103243Z
URL:https://agenda-zaanstreek.nl/events/return-of-the-king-meestervertelle
 r-sadettin-k/
SUMMARY:Return of the King - Meesterverteller Sadettin K.
DESCRIPTION:&nbsp\;\nNa vijftig jaar werken en wonen in Nederland stapte de
  vader van Sadettin op het vliegtuig naar Turkije\, om daar de rest van zi
 jn leven als een koning te leven. Voor Return of the King&nbsp\;onderzoekt
  Sadettin hoe het voor zijn vader is geweest om vijftig jaar te gast te zi
 jn in Nederland\, welke veranderingen er waren in al die jaren en hoe die 
 jaren invloed hebben op Sadettin en diens kinderen. Met een mix van humor\
 , authenticiteit en relativering neemt Sadettin je mee op reis\, zijn vade
 r achterna.\n\n\n\n\n“Mijn vader keek al heel lang uit naar zijn pensioe
 n. Waar hij ook naar uitkeek was zijn verhuizing naar Turkije\, een droom 
 die hij pas de laatste paar jaren had. Toen hij me daar voor het eerst ove
 r vertelde\, kon ik mijn oren niet geloven. Vroeger was mijn vader daar ni
 et mee bezig\, zijn toekomst en daarmee die van onze hele familie\, lag in
  Nederland. Waarom is hij daar op teruggekomen? En waarom zit zijn vertrek
  mij zo dwars?” - Sadettin Kırmızıyüz\n\nNa het succes van&nbsp\;CIT
 IZEN K&nbsp\;en&nbsp\;Somedaymyprincewill.com&nbsp\;werken meestervertelle
 r Sadettin Kırmızıyüz en regisseur Casper Vandeputte opnieuw samen. Hu
 n nieuwste voorstelling&nbsp\;Return of the King&nbsp\;gaat over de remigr
 atie van de gepensioneerde vader van Sadettin.\n\n\n\n
CATEGORIES:Theater,Toneel
LOCATION:Zaantheater\, Nicolaasstraat 3\, Zaandam\, 1506 BB\, Nederland
X-APPLE-STRUCTURED-LOCATION;VALUE=URI;X-ADDRESS=Nicolaasstraat 3\, Zaandam\
 , 1506 BB\, Nederland;X-APPLE-RADIUS=100;X-TITLE=Zaantheater:geo:0,0
END:VEVENT
BEGIN:VTIMEZONE
TZID:Europe/Amsterdam
X-LIC-LOCATION:Europe/Amsterdam
BEGIN:STANDARD
DTSTART:20241027T020000
TZOFFSETFROM:+0200
TZOFFSETTO:+0100
TZNAME:CET
END:STANDARD
END:VTIMEZONE
END:VCALENDAR