BEGIN:VCALENDAR
VERSION:2.0
PRODID:-//wp-events-plugin.com//7.2.3.1//EN
TZID:Europe/Amsterdam
X-WR-TIMEZONE:Europe/Amsterdam
BEGIN:VEVENT
UID:37755@agenda-zaanstreek.nl
DTSTART;TZID=Europe/Amsterdam:20250315T123000
DTEND;TZID=Europe/Amsterdam:20250315T234500
DTSTAMP:20250313T104347Z
URL:https://agenda-zaanstreek.nl/events/reminder-15-years-of-crypsis/
SUMMARY:Reminder – 15 Years of Crypsis
DESCRIPTION:Of Reminder will take place at the Hemkade in Zaandam. We close
  the entrance doors at 20:00 so be on time! Minimum age 18+.
CATEGORIES:Muziek
LOCATION:North Sea Venue\, Hemkade 48\, Zaandam\, 1506 PS\, Nederland
X-APPLE-STRUCTURED-LOCATION;VALUE=URI;X-ADDRESS=Hemkade 48\, Zaandam\, 1506
  PS\, Nederland;X-APPLE-RADIUS=100;X-TITLE=North Sea Venue:geo:0,0
END:VEVENT
BEGIN:VTIMEZONE
TZID:Europe/Amsterdam
X-LIC-LOCATION:Europe/Amsterdam
BEGIN:STANDARD
DTSTART:20241027T020000
TZOFFSETFROM:+0200
TZOFFSETTO:+0100
TZNAME:CET
END:STANDARD
END:VTIMEZONE
END:VCALENDAR