BEGIN:VCALENDAR
VERSION:2.0
PRODID:-//wp-events-plugin.com//7.2.3.1//EN
TZID:Europe/Amsterdam
X-WR-TIMEZONE:Europe/Amsterdam
BEGIN:VEVENT
UID:37457@agenda-zaanstreek.nl
DTSTART;TZID=Europe/Amsterdam:20250322T130000
DTEND;TZID=Europe/Amsterdam:20250322T170000
DTSTAMP:20250223T201832Z
URL:https://agenda-zaanstreek.nl/events/relaunch-yourself/
SUMMARY:ReLaunch Yourself!
DESCRIPTION:\n\n\n\n\nEvenement van&nbsp\;ReLaunch Shea Butter Collection&n
 bsp\;en&nbsp\;De Lichtplaats\n\n\n\n\n\n\n\n\n&nbsp\;\n\n\nDe Lichtplaats\
 n\n\n\n\n\n\n\n\n&nbsp\;\n\n\nTickets\nwww.re-launch.nl/relaunch-yourself\
 n\n\n\n\n&nbsp\;\n\n\n\n\n\n\nOpenbaar&nbsp\;&nbsp\;·&nbsp\;Iedereen op F
 acebook en daarbuiten\n\n\n\n\n\n\n\nBen jij klaar om jezelf volledig te v
 erwennen?&nbsp\;Kom naar ons exclusieve event: ReLaunch Yourself!&nbsp\;\n
 EEN FEEST VOOR LICHAAM\, GEEST EN SCHOONHEID!\nEen middag die volledig in 
 het teken staat van herontdekken\, ontspannen en stralen – van binnen é
 n van buiten&nbsp\;\nMet maar liefst 20+ ondernemers die je meenemen op ee
 n reis naar wellness\, ontspanning en schoonheid\, wil je dit niet missen!
 &nbsp\;\nVerzeker je plek!&nbsp\;Tickets beschikbaar via de link hieronder
 !&nbsp\;\nLaten we samen de lente verwelkomen en onszelf herlanceren!&nbsp
 \;\n\n
CATEGORIES:Spiritueel
LOCATION:De Lichtplaats\, Provincialeweg 302\, Zaandam\, 1506 MJ\, Nederlan
 d
X-APPLE-STRUCTURED-LOCATION;VALUE=URI;X-ADDRESS=Provincialeweg 302\, Zaanda
 m\, 1506 MJ\, Nederland;X-APPLE-RADIUS=100;X-TITLE=De Lichtplaats:geo:0,0
END:VEVENT
BEGIN:VTIMEZONE
TZID:Europe/Amsterdam
X-LIC-LOCATION:Europe/Amsterdam
BEGIN:STANDARD
DTSTART:20241027T020000
TZOFFSETFROM:+0200
TZOFFSETTO:+0100
TZNAME:CET
END:STANDARD
END:VTIMEZONE
END:VCALENDAR