BEGIN:VCALENDAR
VERSION:2.0
PRODID:-//wp-events-plugin.com//7.2.3.1//EN
TZID:Europe/Amsterdam
X-WR-TIMEZONE:Europe/Amsterdam
BEGIN:VEVENT
UID:37560@agenda-zaanstreek.nl
DTSTART;TZID=Europe/Amsterdam:20250322T130000
DTEND;TZID=Europe/Amsterdam:20250322T170000
DTSTAMP:20250304T201430Z
URL:https://agenda-zaanstreek.nl/events/relaunch-yourself-2/
SUMMARY:ReLaunch Yourself
DESCRIPTION:\nReLaunch Yourself – Een feest voor lichaam\, geest en schoo
 nheid!\n\nZaterdag 22 maart 2025 is het zover: we lanceren met trots de Re
 Launch SheaButter Collection tijdens ons exclusieve event ReLaunch Yoursel
 f. Een dag die volledig in het teken staat van herontdekken\, ontspannen e
 n stralen – van binnen én van buiten.\n\nWat kun je verwachten?\n\n\n\n
  	Inspirerende workshops die je zintuigen prikkelen en je laten groeien.\n
  	Unieke ervaringen op het gebied van natuurlijke schoonheid en innerlijke
  balans.\n 	Passievolle ondernemers die jou inspireren met hun kennis en p
 roducten.\n 	Neem deel aan veel gratis activiteiten en maak gebruik van de
  mogelijkheid om aanvullend de meest uiteenlopende sessies tegen een aantr
 ekkelijke actieprijs te volgen.\n\n\nLaat je verrassen\, verwennen en ontd
 ek hoe jij jezelf opnieuw kunt lanceren!\n\nPraktische informatie\n\n\n\n 
 	Datum: 22 maart 2025\n 	Tijd: 13:00 – 17:00 uur\n 	Locatie: Business Ce
 ntre Bedrijvige Bij\, De Groene Bark\, Provincialeweg 302\, Zaandam\n 	Tij
 dens het event zijn heerlijke hapjes en drankjes te koop\n\n\n&nbsp\;
CATEGORIES:Spiritueel
LOCATION:De Groene Bark\, Provincialeweg 302\, Zaandam\, Nederland
X-APPLE-STRUCTURED-LOCATION;VALUE=URI;X-ADDRESS=Provincialeweg 302\, Zaanda
 m\, Nederland;X-APPLE-RADIUS=100;X-TITLE=De Groene Bark:geo:0,0
END:VEVENT
BEGIN:VTIMEZONE
TZID:Europe/Amsterdam
X-LIC-LOCATION:Europe/Amsterdam
BEGIN:STANDARD
DTSTART:20241027T020000
TZOFFSETFROM:+0200
TZOFFSETTO:+0100
TZNAME:CET
END:STANDARD
END:VTIMEZONE
END:VCALENDAR