BEGIN:VCALENDAR
VERSION:2.0
PRODID:-//wp-events-plugin.com//7.2.3.1//EN
TZID:Europe/Amsterdam
X-WR-TIMEZONE:Europe/Amsterdam
BEGIN:VEVENT
UID:36486@agenda-zaanstreek.nl
DTSTART;TZID=Europe/Amsterdam:20241222T150000
DTEND;TZID=Europe/Amsterdam:20241222T170000
DTSTAMP:20241219T101311Z
URL:https://agenda-zaanstreek.nl/events/recital-met-tandaradei-het-wonder-
 van-de-winter/
SUMMARY:Recital met Tandaradei - Het wonder van de winter
DESCRIPTION:\n\nNiet alleen de winter staat centraal\, maar zo dicht tegen 
 kerst brengt Tandaradei een aantal heel bijzondere\, niet alledaagse kerst
 liederen \, waaronder een wereldpremière.\nZoals u gewend bent van Tandar
 adei mixen zij oude instrumenten uit de middeleeuwen en renaissance met he
 dendaagse\, zang en creativiteit tot een bijzondere sound die garant staat
  voor luistergenot en nieuwsgierigheid naar het volgende nummer. En voor w
 ie wil\, kan interactief meedoen in een aantal nummers. Zo wordt een conce
 rt een bijzondere ervaring.\n\nDit programma start om 15 uur en duurt tot 
 17.00 uur en kent een pauze.
CATEGORIES:Muziek
LOCATION:Kooger Vermaning\, Lagedijk 34\, Koog aan de Zaan\, 1541 KC\, Nede
 rland
X-APPLE-STRUCTURED-LOCATION;VALUE=URI;X-ADDRESS=Lagedijk 34\, Koog aan de Z
 aan\, 1541 KC\, Nederland;X-APPLE-RADIUS=100;X-TITLE=Kooger Vermaning:geo:
 0,0
END:VEVENT
BEGIN:VTIMEZONE
TZID:Europe/Amsterdam
X-LIC-LOCATION:Europe/Amsterdam
BEGIN:STANDARD
DTSTART:20241027T020000
TZOFFSETFROM:+0200
TZOFFSETTO:+0100
TZNAME:CET
END:STANDARD
END:VTIMEZONE
END:VCALENDAR