BEGIN:VCALENDAR
VERSION:2.0
PRODID:-//wp-events-plugin.com//7.2.3.1//EN
TZID:Europe/Amsterdam
X-WR-TIMEZONE:Europe/Amsterdam
BEGIN:VEVENT
UID:40058@agenda-zaanstreek.nl
DTSTART;TZID=Europe/Amsterdam:20250927T150000
DTEND;TZID=Europe/Amsterdam:20250927T150000
DTSTAMP:20250828T100712Z
URL:https://agenda-zaanstreek.nl/events/rebellionfest-ii-louder-heavier-pu
 re-chaos/
SUMMARY:REBELLIONFEST II: Louder\, Heavier\, Pure Chaos!
DESCRIPTION:\n\n\n\n\n\n\n\n\n\n 	\n&nbsp\;\n 	\n\nzaterdag\, sep 27\, 2025
 Open: 15:00Aanvang: 16:00Prijs: VVK: €12\,50 Deur: €17\,50\nMetal! Voo
 r en door liefhebbers.\n\n\n\nLocatie: Binnen\, buiten\, kijk maar ffies\n
 \n\nNa een succesvolle eerste editie gaan we natuurlijk niet stoppen!\nEdi
 tie 2 is in de maak\, en zoals de titel meldt:&nbsp\;MEER HERRIE\, NOG ZWA
 ARDER EN COMPLETE CHAOS\n\nDit keer niet 1 maar 2 foodtrucks! Ook voor de 
 liefhebbers van een vette hap!\n&nbsp\;LINE-UP&nbsp\;\n►&nbsp\;Arising R
 ebellion\n“Zonder dit zootje ongeregeld had dit festival nooit bestaan
 ”&nbsp\;\nDe drijvende kracht achter RebellionFest en een band die de es
 sentie van dit festival ademt. Verwacht loodzware grooves en pure energie!
 &nbsp\;\n►&nbsp\;Man as Plague\n“Herrie\, Herrie en nog meer Herrie. H
 EERLIJK!”\nEen genadeloze mix van Deathcore\, Death Metal en Hardcore. M
 et duistere melodieën\, vernietigende breakdowns en brute energie blazen 
 ze alles omver!&nbsp\;\n►&nbsp\;Black Knight\n“Verwacht geen klassiek 
 strijkensemble\, maar wel ouderwetse heavy metal!”&nbsp\;\nEen legendari
 sche naam in de Nederlandse heavy metal\, al meer dan 40 jaar een vaste wa
 arde in de scene. Met een nieuw album op komst brengen ze een set vol klas
 sieke heavy metal kracht!\n►&nbsp\;DEEPROOT\n“We hadden het over CHAOS
  toch? Nou dat kunnen deze gasten zeker verzorgen hoor!”&nbsp\;\nEen opk
 omende naam in de moderne metal\, DEEPROOT mengt Metalcore en Deathcore to
 t een explosieve\, intense sound. Riffs\, breakdowns en energie van begin 
 tot eind!\n&nbsp\;En dit is nog maar het begin… meer namen volgen snel!&
 nbsp\;\n\n\n\n\n\n\n
CATEGORIES:Muziek
LOCATION:De Groote Weiver\, Industrieweg 1a\, Wormerveer\, 1521 NA\, Wormer
 veer\, Nederland
X-APPLE-STRUCTURED-LOCATION;VALUE=URI;X-ADDRESS=Industrieweg 1a\, Wormervee
 r\, 1521 NA\, Wormerveer\, Nederland;X-APPLE-RADIUS=100;X-TITLE=De Groote 
 Weiver:geo:0,0
END:VEVENT
BEGIN:VTIMEZONE
TZID:Europe/Amsterdam
X-LIC-LOCATION:Europe/Amsterdam
BEGIN:DAYLIGHT
DTSTART:20250330T030000
TZOFFSETFROM:+0100
TZOFFSETTO:+0200
TZNAME:CEST
END:DAYLIGHT
END:VTIMEZONE
END:VCALENDAR