BEGIN:VCALENDAR
VERSION:2.0
PRODID:-//wp-events-plugin.com//7.2.3.1//EN
TZID:Europe/Amsterdam
X-WR-TIMEZONE:Europe/Amsterdam
BEGIN:VEVENT
UID:38977@agenda-zaanstreek.nl
DTSTART;TZID=Europe/Amsterdam:20250621T120000
DTEND;TZID=Europe/Amsterdam:20250622T153000
DTSTAMP:20250529T101459Z
URL:https://agenda-zaanstreek.nl/events/rdc-studios-assendelft-eindjaarsda
 ns-in-de-kunstgreep-3x/
SUMMARY:RDC Studios Assendelft - Eindjaarsdans in de KunstGreep (3x)
DESCRIPTION:zaterdag 21 juni 21-06 om 16.00 uur 22-06 12.00 en 15.30 uur - 
 zondag 22 juni\nrdcstudios.nl\n\nKoop tickets hier.\n\n\nl.21 en 22 juni i
 s het weer zover. Alle leerlingen gaan dit weekend drie keer optreden in d
 e kunstgreep in Oostzaan. Onze docenten zijn al een aantal maanden bezig m
 et hun creativiteit om te zetten in een vette dans. Een super toffe uitdag
 ing voor de dansers om echt naar iets toe te werken en in het theater aan 
 hun dierbaren te kunnen laten zien wat ze kunnen!\n\n
CATEGORIES:Dans
LOCATION:De KunstGreep\, Kerkbuurt 4\, Oostzaan\, 1511 BD\, Nederland
X-APPLE-STRUCTURED-LOCATION;VALUE=URI;X-ADDRESS=Kerkbuurt 4\, Oostzaan\, 15
 11 BD\, Nederland;X-APPLE-RADIUS=100;X-TITLE=De KunstGreep:geo:0,0
END:VEVENT
BEGIN:VTIMEZONE
TZID:Europe/Amsterdam
X-LIC-LOCATION:Europe/Amsterdam
BEGIN:DAYLIGHT
DTSTART:20250330T030000
TZOFFSETFROM:+0100
TZOFFSETTO:+0200
TZNAME:CEST
END:DAYLIGHT
END:VTIMEZONE
END:VCALENDAR