BEGIN:VCALENDAR
VERSION:2.0
PRODID:-//wp-events-plugin.com//7.2.3.1//EN
TZID:Europe/Amsterdam
X-WR-TIMEZONE:Europe/Amsterdam
BEGIN:VEVENT
UID:36354@agenda-zaanstreek.nl
DTSTART;TZID=Europe/Amsterdam:20250510T203000
DTEND;TZID=Europe/Amsterdam:20250510T203000
DTSTAMP:20241212T105901Z
URL:https://agenda-zaanstreek.nl/events/raamtheater-wormer-ideale-moordena
 ars-3/
SUMMARY:Raamtheater Wormer - Ideale moordenaars
DESCRIPTION:&nbsp\;\n\n\nWe spelen "Ideale Moordenaars" van Walter G. Pfaus
 \nOnder regie van Mieke Freijee\n\nEen komische thriller die je meeneemt i
 n het complot van een echtpaar\, dat vastbesloten is drie miljoen euro van
  een levensverzekering te innen. Ze hebben de perfecte moord bedacht\, maa
 r hun plan is extreem te noemen. Ze zijn ervan overtuigd dat ze ermee weg 
 gaan komen. Maar ze hadden niet gerekend op de bemoeizuchtige buurvrouw\, 
 een argwanende inspecteur en een strenge verzekeringsagent. Want zoals bij
  alle goede misdaadverhalen\, loopt niet alles volgens plan…\n\n 	Datum:
  10 mei 2025\n 	Aanvang: 20.30 uur\n 	Ticketprijs: € 15\,00\n 	Inclusief
  consumptie\n 	Toneel\n\n\n 	Datum: 11 mei 2025\n 	Aanvang: 14.30 uur\n 	T
 icketprijs: € 15\,00\n 	Inclusief consumptie\n 	Toneel\n\n&nbsp\;Tickets
  bestellen via&nbsp\;n.brehm@xs4all.nl&nbsp\;of bel naar 075-6425436\n\n
CATEGORIES:Toneel
LOCATION:Theater de Kaasfabriek\, Dorpsstraat 206\, Wormer\, 1531 HS\, Worm
 er\, Nederland
X-APPLE-STRUCTURED-LOCATION;VALUE=URI;X-ADDRESS=Dorpsstraat 206\, Wormer\, 
 1531 HS\, Wormer\, Nederland;X-APPLE-RADIUS=100;X-TITLE=Theater de Kaasfab
 riek:geo:0,0
END:VEVENT
BEGIN:VTIMEZONE
TZID:Europe/Amsterdam
X-LIC-LOCATION:Europe/Amsterdam
BEGIN:DAYLIGHT
DTSTART:20250330T030000
TZOFFSETFROM:+0100
TZOFFSETTO:+0200
TZNAME:CEST
END:DAYLIGHT
END:VTIMEZONE
END:VCALENDAR