BEGIN:VCALENDAR
VERSION:2.0
PRODID:-//wp-events-plugin.com//7.2.3.1//EN
TZID:Europe/Amsterdam
X-WR-TIMEZONE:Europe/Amsterdam
BEGIN:VEVENT
UID:36222@agenda-zaanstreek.nl
DTSTART;TZID=Europe/Amsterdam:20250207T200000
DTEND;TZID=Europe/Amsterdam:20250207T200000
DTSTAMP:20241205T110913Z
URL:https://agenda-zaanstreek.nl/events/queen-the-music-show-must-go-on/
SUMMARY:Queen The Music - Show Must Go On!
DESCRIPTION:&nbsp\;\nMet tientallen hits in de jaren ‘70\, ‘80 en ‘90
 \, is Queen een van de succesvolste popgroepen uit de geschiedenis. Al jar
 en zijn staan ze steevast op de nummer een positie in de Top2000. Reden vo
 or een heerlijke show waar de energie en plezier a la Freddie Mercury vana
 f spat! Vier ijzersterke vocalisten brengen een heerlijk avondje Queen\, w
 aar hits als 'I Want it All'\, 'Under Pressure'\, 'I Want to Break Free'\,
  'Somebody to Love'\, 'Another One Bites The Dust'\, 'We Are The Champions
 '\, 'We Will Rock You'\, 'The Show Must Go On'\, 'Don’t Stop Me Now' en 
 natuurlijk 'Bohemian Rhapsody' niet zullen ontbreken.\n\n\n\n\nMet de spec
 iaal uit België ‘overgevlogen’ Sonny Vande Putte\, of John Vooijs\, T
 homas Meeuwis\, Ravenna Moscoso\, Nadine Pruim én special guest Linda Kin
 sbergen als Montserrat Caballé!\n\n\n\n
CATEGORIES:Muziek
LOCATION:Zaantheater\, Nicolaasstraat 3\, Zaandam\, 1506 BB\, Nederland
X-APPLE-STRUCTURED-LOCATION;VALUE=URI;X-ADDRESS=Nicolaasstraat 3\, Zaandam\
 , 1506 BB\, Nederland;X-APPLE-RADIUS=100;X-TITLE=Zaantheater:geo:0,0
END:VEVENT
BEGIN:VTIMEZONE
TZID:Europe/Amsterdam
X-LIC-LOCATION:Europe/Amsterdam
BEGIN:STANDARD
DTSTART:20241027T020000
TZOFFSETFROM:+0200
TZOFFSETTO:+0100
TZNAME:CET
END:STANDARD
END:VTIMEZONE
END:VCALENDAR