BEGIN:VCALENDAR
VERSION:2.0
PRODID:-//wp-events-plugin.com//7.2.3.1//EN
TZID:Europe/Amsterdam
X-WR-TIMEZONE:Europe/Amsterdam
BEGIN:VEVENT
UID:39167@agenda-zaanstreek.nl
DTSTART;TZID=Europe/Amsterdam:20250623T164500
DTEND;TZID=Europe/Amsterdam:20250623T180000
DTSTAMP:20250612T190924Z
URL:https://agenda-zaanstreek.nl/events/proefles-freerunning/
SUMMARY:Proefles Freerunning
DESCRIPTION:\n\n\n\n\n\n\n\n\n\n\nGratis proefles freerunning – maandag 2
 3 juni van 16:45 tot 18:00 uur in Sporthal De Dijk in Zaandam. Voor kinder
 en vanaf 9 jaar die houden van klimmen\, rennen en springen. Tijdens de pr
 oefles ontdek je hoe leuk het is om je vrij te bewegen terwijl je sterker\
 , sneller en zelfverzekerder wordt. Er zijn maar een paar plekken beschikb
 aar\, dus meld je snel aan via info@ccozaandam.nl. Tot dan!\n&nbsp\;\n\n\n
 \n\n\n\n\n\n\n\n\n\n\n\n\n\n&nbsp\;\n&nbsp\;\n\n\n\n\n\n\n\n\n\n\n\n\n&nbs
 p\;\n\n\n\n\n\n\n\n\n\n\n\n\n&nbsp\;
CATEGORIES:Recreatiesport
LOCATION:Zaandam\, -\, -\, Nederland
X-APPLE-STRUCTURED-LOCATION;VALUE=URI;X-ADDRESS=-\, -\, Nederland;X-APPLE-R
 ADIUS=100;X-TITLE=Zaandam:geo:0,0
END:VEVENT
BEGIN:VTIMEZONE
TZID:Europe/Amsterdam
X-LIC-LOCATION:Europe/Amsterdam
BEGIN:DAYLIGHT
DTSTART:20250330T030000
TZOFFSETFROM:+0100
TZOFFSETTO:+0200
TZNAME:CEST
END:DAYLIGHT
END:VTIMEZONE
END:VCALENDAR