BEGIN:VCALENDAR
VERSION:2.0
PRODID:-//wp-events-plugin.com//7.2.3.1//EN
TZID:Europe/Amsterdam
X-WR-TIMEZONE:Europe/Amsterdam
BEGIN:VEVENT
UID:37886@agenda-zaanstreek.nl
DTSTART;TZID=Europe/Amsterdam:20250419T100000
DTEND;TZID=Europe/Amsterdam:20250419T120000
DTSTAMP:20250403T071712Z
URL:https://agenda-zaanstreek.nl/events/proef-je-buurthuis-fietstocht/
SUMMARY:Proef je buurthuis Fietstocht
DESCRIPTION:\n\nOp zaterdag 19 april 2025 wordt weer een fietspuzzeltocht g
 eorganiseerd langs de buurthuizen in Assendelft\, Koog aan de Zaan\, Kromm
 enie\, Krommeniedijk\, Westknollendam\, Westzaan en Wormerveer. Deelnemers
  kunnen bij alle buurthuizen starten en er ook voor kiezen om een deel van
  de tocht te fietsen. De hele tocht is ongeveer 35 km lang.\n\n&nbsp\;\n\n
 \n\nDag/Tijd\nZaterdag 19 april 2025\nStarttijd naar eigen keuze tussen 10
 .00-12.00 uur\nFinish uiterlijk 16.30 uur\n\n\nKosten\n€ 4 per persoon\,
  te betalen bij het buurthuis waar je start\n\n\n
CATEGORIES:Sociaal
LOCATION:Zaanstad\, Diverse locaties\, Zaanstad\, Nederland
X-APPLE-STRUCTURED-LOCATION;VALUE=URI;X-ADDRESS=Diverse locaties\, Zaanstad
 \, Nederland;X-APPLE-RADIUS=100;X-TITLE=Zaanstad:geo:0,0
END:VEVENT
BEGIN:VTIMEZONE
TZID:Europe/Amsterdam
X-LIC-LOCATION:Europe/Amsterdam
BEGIN:DAYLIGHT
DTSTART:20250330T030000
TZOFFSETFROM:+0100
TZOFFSETTO:+0200
TZNAME:CEST
END:DAYLIGHT
END:VTIMEZONE
END:VCALENDAR