BEGIN:VCALENDAR
VERSION:2.0
PRODID:-//wp-events-plugin.com//7.2.3.1//EN
TZID:Europe/Amsterdam
X-WR-TIMEZONE:Europe/Amsterdam
BEGIN:VEVENT
UID:39107@agenda-zaanstreek.nl
DTSTART;TZID=Europe/Amsterdam:20250712T000000
DTEND;TZID=Europe/Amsterdam:20250712T000000
DTSTAMP:20250609T093958Z
URL:https://agenda-zaanstreek.nl/events/proef-de-streek/
SUMMARY:Proef de Streek
DESCRIPTION:PROEF DE STREEK: Maandelijks gaan we met onze bevriende boswach
 ters en een boot vol nieuwsgierige gasten op een bijzondere ontdekkingsrei
 s. Op deze ontdekkingstocht doorkruisen we te water het prachtige natuurge
 bied waar Jongwijs aan ligt: De Reef. De boswachters van Staatsbosbeheer g
 idsen je met hun verhalen langs de mooiste plekken van dit stukje Zaanstre
 ek\, en laten laten je afstappen om regelmatig wat moois te proeven.\n\nEe
 nmaal terug bij Jongwijs\, trekken we onze jassen en schoenen uit en schui
 ven we aan tafel voor een heerlijk driegangendiner\, waarin Zaanse ingredi
 ënten de hoofdrol spelen. We proosten met ons eigen\nverrukkelijke Wijs J
 ochie biertje\, of een mooi glas wijn\, of iets anders.\n\nDe kosten voor 
 dit avontuur zijn 65 euro per persoon\, inclusief hapje(s) op de boot / in
  het natuurgebied\, driegangen diner (excl. dranken)\, boot en gids!\n\nKo
 m naar buiten\, speel mee\, en proef de authentieke smaken van Westzaan!\n
 \nJongwijs Westzaan - Restaurant &amp\; Boutique Hotel
CATEGORIES:Excursie,Horeca
LOCATION:Jongwijs\, J.J. Allanstraat 119-121\, Westzaan\, 1551 AD\, Westzaa
 n\, Nederland
X-APPLE-STRUCTURED-LOCATION;VALUE=URI;X-ADDRESS=J.J. Allanstraat 119-121\, 
 Westzaan\, 1551 AD\, Westzaan\, Nederland;X-APPLE-RADIUS=100;X-TITLE=Jongw
 ijs:geo:0,0
END:VEVENT
BEGIN:VTIMEZONE
TZID:Europe/Amsterdam
X-LIC-LOCATION:Europe/Amsterdam
BEGIN:DAYLIGHT
DTSTART:20250330T030000
TZOFFSETFROM:+0100
TZOFFSETTO:+0200
TZNAME:CEST
END:DAYLIGHT
END:VTIMEZONE
END:VCALENDAR