BEGIN:VCALENDAR
VERSION:2.0
PRODID:-//wp-events-plugin.com//7.2.3.1//EN
TZID:Europe/Amsterdam
X-WR-TIMEZONE:Europe/Amsterdam
BEGIN:VEVENT
UID:35570@agenda-zaanstreek.nl
DTSTART;TZID=Europe/Amsterdam:20241124T150000
DTEND;TZID=Europe/Amsterdam:20241124T150000
DTSTAMP:20241031T131916Z
URL:https://agenda-zaanstreek.nl/events/probieren/
SUMMARY:Probieren
DESCRIPTION:\n\n\n\n\n\n\n 	\n\nzondag\, nov 24\, 2024Open: 15:00Aanvang: 1
 5:00Prijs: €20\,-\n\n\n\n\n\nIedere maand selecteert het bierteam een bi
 er-thema. Tijdens de bierproef worden dan 5 bieren geproefd die voldoen aa
 n het bier-thema.\nJe kunt meedoen door een kaart te kopen voor € 20\,-\
 nMocht je zelf hapjes willen meenemen dan mag dat maar dan graag vleesloos
 .\nEr kunnen maximaal 24 bierliefhebbers meedoen dus reserveer snel via bi
 erproef@degrooteweiver.nl.\nJe kunt maximaal 2 kaarten reserveren.\n\n&nbs
 p\;\n\n\n\n\n\n\n
CATEGORIES:Horeca,Sociaal
LOCATION:De Groote Weiver\, Industrieweg 1a\, Wormerveer\, 1521 NA\, Wormer
 veer\, Nederland
X-APPLE-STRUCTURED-LOCATION;VALUE=URI;X-ADDRESS=Industrieweg 1a\, Wormervee
 r\, 1521 NA\, Wormerveer\, Nederland;X-APPLE-RADIUS=100;X-TITLE=De Groote 
 Weiver:geo:0,0
END:VEVENT
BEGIN:VTIMEZONE
TZID:Europe/Amsterdam
X-LIC-LOCATION:Europe/Amsterdam
BEGIN:STANDARD
DTSTART:20241027T020000
TZOFFSETFROM:+0200
TZOFFSETTO:+0100
TZNAME:CET
END:STANDARD
END:VTIMEZONE
END:VCALENDAR