BEGIN:VCALENDAR
VERSION:2.0
PRODID:-//wp-events-plugin.com//7.2.3.1//EN
TZID:Europe/Amsterdam
X-WR-TIMEZONE:Europe/Amsterdam
BEGIN:VEVENT
UID:35683@agenda-zaanstreek.nl
DTSTART;TZID=Europe/Amsterdam:20241129T160000
DTEND;TZID=Europe/Amsterdam:20241129T160000
DTSTAMP:20241106T111200Z
URL:https://agenda-zaanstreek.nl/events/presentatie-van-het-boek-rijp-voor
 -de-sloop/
SUMMARY:Presentatie van het boek 'Rijp voor de sloop'
DESCRIPTION:
CATEGORIES:Erfgoed,Lezing
LOCATION:Doopsgezinde Vermaning Zaandam\, Westzijde 80\, Zaandam\, 1506 EG\
 , Nederland
X-APPLE-STRUCTURED-LOCATION;VALUE=URI;X-ADDRESS=Westzijde 80\, Zaandam\, 15
 06 EG\, Nederland;X-APPLE-RADIUS=100;X-TITLE=Doopsgezinde Vermaning Zaanda
 m:geo:0,0
END:VEVENT
BEGIN:VTIMEZONE
TZID:Europe/Amsterdam
X-LIC-LOCATION:Europe/Amsterdam
BEGIN:STANDARD
DTSTART:20241027T020000
TZOFFSETFROM:+0200
TZOFFSETTO:+0100
TZNAME:CET
END:STANDARD
END:VTIMEZONE
END:VCALENDAR