BEGIN:VCALENDAR
VERSION:2.0
PRODID:-//wp-events-plugin.com//7.2.3.1//EN
TZID:Europe/Amsterdam
X-WR-TIMEZONE:Europe/Amsterdam
BEGIN:VEVENT
UID:37238@agenda-zaanstreek.nl
DTSTART;TZID=Europe/Amsterdam:20250214T000000
DTEND;TZID=Europe/Amsterdam:20250214T000000
DTSTAMP:20250206T090108Z
URL:https://agenda-zaanstreek.nl/events/presentatie-parkinson-support-plan
 /
SUMMARY:Presentatie ‘Parkinson Support Plan’
DESCRIPTION:Renée Noteboom\, Somnoloog-Physician Assistant in het Zaans Me
 disch Centrum\, geeft voor de Parkinsonvereniging Zaanstad op vrijdag 14 f
 ebruari een presentatie over het Parkinson Support Plan.\n\n\nRenée Noteb
 oom\, Somnoloog-Physician Assistant in het Zaans Medisch Centrum.&nbsp\;(F
 oto: )\n\n\n“Een veel gestelde vraag in de spreekkamer is ‘hoe gaat de
 ze ziekte verlopen\, wat kan ik verwachten?’ Daar is helaas niet goed ee
 n antwoord op te geven\, we kunnen niet voorspellen welke symptomen zich h
 inderlijk zullen openbaren en ook niet hoe snel het zal gaan. Wat wel duid
 elijk is\, is dat de ziekte van Parkinson een progressieve ziekte is\, met
  veranderen van zorgvraag in de verschillende fases van het beloop. In mij
 n presentatie zal ik hierop proberen in te zoomen met zeker ook aandacht d
 aarbij voor de eigen regie. Gesprekken over proactieve zorgplanning\, zeke
 r wanneer je het hebt over zorg in de laatste fase van de ziekte van Parki
 nson\, kunnen moeilijk en emotioneel zijn\, maar het is wel belangrijk eve
 ntueel wensen met naasten en betrokken zorgverleners te bespreken”\, ald
 us Renée Noteboom.\nInloop\nDe inloop in het Mennistenerf (Arend Dikzaal)
 \, H. Gerhardstraat 77 is om 14.00 uur. Om 14.15 uur worden de bezoekers w
 elkom geheten door coördinator Annemieke Poiesz die de spreker zal introd
 uceren. Na de presentatie is er gelegenheid om vragen te stellen en na te 
 praten. Het Parkinson Café Zaanstad is een ontmoetingsplek voor mensen me
 t Parkinson(ismen) en hun partners\, familie of vrienden.\n\nMeer informat
 ie: parkinson-vereniging.nl/zaanstad. In verband met de organisatie is het
  prettig u aan te melden via info@parkinsoncafezaanstad.nl\n\n
CATEGORIES:Lezing,Sociaal
LOCATION:Zorgcentrum Mennistenerf\, H. Gerhardstraat 77\, Zaandam\, 1502 CC
 \, Nederland
X-APPLE-STRUCTURED-LOCATION;VALUE=URI;X-ADDRESS=H. Gerhardstraat 77\, Zaand
 am\, 1502 CC\, Nederland;X-APPLE-RADIUS=100;X-TITLE=Zorgcentrum Mennistene
 rf:geo:0,0
END:VEVENT
BEGIN:VTIMEZONE
TZID:Europe/Amsterdam
X-LIC-LOCATION:Europe/Amsterdam
BEGIN:STANDARD
DTSTART:20241027T020000
TZOFFSETFROM:+0200
TZOFFSETTO:+0100
TZNAME:CET
END:STANDARD
END:VTIMEZONE
END:VCALENDAR