BEGIN:VCALENDAR
VERSION:2.0
PRODID:-//wp-events-plugin.com//7.2.3.1//EN
TZID:Europe/Amsterdam
X-WR-TIMEZONE:Europe/Amsterdam
BEGIN:VEVENT
UID:38579@agenda-zaanstreek.nl
DTSTART;TZID=Europe/Amsterdam:20250509T140000
DTEND;TZID=Europe/Amsterdam:20250509T140000
DTSTAMP:20250508T074203Z
URL:https://agenda-zaanstreek.nl/events/presentatie-parkinson-en-mondzorg/
SUMMARY:Presentatie Parkinson en mondzorg
DESCRIPTION:\nBij het Parkinsoncafé geven Karina Pigeaud en Merel Verhoeff
 \, tandartsen van van ACTA ((het Academisch Centrum Tandheelkunde Amsterda
 m) op vrijdag 9 mei een presentatie over mondzorg bij mensen met Parkinson
 .\n\n\n\n\nWaar loop je tegen aan bij je mondzorg als je de Ziekte van Par
 kinson hebt?&nbsp\;(Foto: PxHere)\n\n&nbsp\;\nHet eerste deel van de prese
 ntatie zal gaan over wat er nu bekend is over Parkinson en de mond. Denk b
 ijvoorbeeld aan: verminderde speeksel aanmaak\, moeite met tandenpoetsen/r
 ageren\, droge mond\, slikproblemen en tandenknarsen.\n\n\nPresentatie Par
 kinson en mondzorg | Al het nieuws uit Zaanstad
CATEGORIES:Lezing,Sociaal
LOCATION:Zorgcentrum Mennistenerf\, H. Gerhardstraat 77\, Zaandam\, 1502 CC
 \, Nederland
X-APPLE-STRUCTURED-LOCATION;VALUE=URI;X-ADDRESS=H. Gerhardstraat 77\, Zaand
 am\, 1502 CC\, Nederland;X-APPLE-RADIUS=100;X-TITLE=Zorgcentrum Mennistene
 rf:geo:0,0
END:VEVENT
BEGIN:VTIMEZONE
TZID:Europe/Amsterdam
X-LIC-LOCATION:Europe/Amsterdam
BEGIN:DAYLIGHT
DTSTART:20250330T030000
TZOFFSETFROM:+0100
TZOFFSETTO:+0200
TZNAME:CEST
END:DAYLIGHT
END:VTIMEZONE
END:VCALENDAR