BEGIN:VCALENDAR
VERSION:2.0
PRODID:-//wp-events-plugin.com//7.2.3.1//EN
TZID:Europe/Amsterdam
X-WR-TIMEZONE:Europe/Amsterdam
BEGIN:VEVENT
UID:38100@agenda-zaanstreek.nl
DTSTART;TZID=Europe/Amsterdam:20250411T140000
DTEND;TZID=Europe/Amsterdam:20250411T140000
DTSTAMP:20250403T093317Z
URL:https://agenda-zaanstreek.nl/events/presentatie-over-de-ziekte-van-par
 kinson-en-bekkenbodemklachten/
SUMMARY:Presentatie over de Ziekte van Parkinson en bekkenbodemklachten
DESCRIPTION:\n\nDorien Bennink\, bekkenfysiotherapeut en onderzoeker in het
  LUMC\, geeft op vrijdag 11 april een presentatie over de Ziekte van Parki
 nson en bekkenbodemklachten. Dat doet ze op uitnodiging van de Parkinson V
 ereniging Zaanstad.\n\nBennink behandelt mensen met bekkenbodemklachten.Di
 e uiten zich door middel van klachten van\nonder andere blaas en darm. Bij
 voorbeeld moeite met ophouden van plas of ontlasting\, vaak plassen\,\nmoe
 ite met ontlasten en vaak nog vervelender urine verlies/ ontlastingsverlie
 s. Deze lastige klachten\nkunnen grote invloed hebben op dagelijkse activi
 teiten. En praten over deze klachten is voor veel mensen\nongemakkelijk. I
 n een presentatie legt zij uit hoe de blaas en de darm samenwerken met de\
 nbekkenbodemspieren. Hoe een behandeling bekkenfysiotherapie eruit ziet\, 
 welke bekkenbodemspier\noefeningen je kunt doen\, hoe je plassen kunt uits
 tellen of bijvoorbeeld ontlasting makkelijker kwijt kunt\nraken. De inloop
  in het Mennistenerf (Arend Dikzaal)\, H. Gerhardstraat 77 is om 14.00 uur
 . Om 14.15 uur\nworden de bezoekers welkom geheten door coördinator Annem
 ieke Poiesz. Na de presentatie is er\ngelegenheid om vragen te stellen en 
 na te praten. In verband met de organisatie is het prettig je aan te\nmeld
 en via info@parkinsoncafezaanstad.nl
CATEGORIES:Lezing
LOCATION:Zorgcentrum Mennistenerf\, H. Gerhardstraat 77\, Zaandam\, 1502 CC
 \, Nederland
X-APPLE-STRUCTURED-LOCATION;VALUE=URI;X-ADDRESS=H. Gerhardstraat 77\, Zaand
 am\, 1502 CC\, Nederland;X-APPLE-RADIUS=100;X-TITLE=Zorgcentrum Mennistene
 rf:geo:0,0
END:VEVENT
BEGIN:VTIMEZONE
TZID:Europe/Amsterdam
X-LIC-LOCATION:Europe/Amsterdam
BEGIN:DAYLIGHT
DTSTART:20250330T030000
TZOFFSETFROM:+0100
TZOFFSETTO:+0200
TZNAME:CEST
END:DAYLIGHT
END:VTIMEZONE
END:VCALENDAR