BEGIN:VCALENDAR
VERSION:2.0
PRODID:-//wp-events-plugin.com//7.2.3.1//EN
TZID:Europe/Amsterdam
X-WR-TIMEZONE:Europe/Amsterdam
BEGIN:VEVENT
UID:40598@agenda-zaanstreek.nl
DTSTART;TZID=Europe/Amsterdam:20251109T150000
DTEND;TZID=Europe/Amsterdam:20251109T150000
DTSTAMP:20251106T111222Z
URL:https://agenda-zaanstreek.nl/events/porte-bagage-x-nabil-een-middag-me
 t-film-en-theater/
SUMMARY:Porte Bagage x Nabil - Een middag met film en theater
DESCRIPTION:\n\n 	Theatershow\, Cabaret\n\n\n\n\nBijna tien jaar geleden pr
 oduceerde Zouka de succesvolle documentaires&nbsp\;Mijn vader de expat&nbs
 p\;en&nbsp\;Toen ma naar Mars vertrok\, waarmee 40.000 mensen naar het the
 ater trokken. Nu vertonen ze hun langverwachte eerste speelfilm&nbsp\;Port
 e Bagage&nbsp\;exclusief in het theater. Regisseur Abdelkarim El-Fassi en 
 producent Asma El-Fassi werkten maar liefst zes jaar aan dit project\, dat
  diep is geïnspireerd door hun persoonlijke ervaring als mantelzorgers.\n
 \n\n\n\n\n\nDit unieke programma combineert theater en film.&nbsp\;Porte B
 agage&nbsp\;vertelt het aangrijpende verhaal van de familie Idrissi\, die 
 geconfronteerd wordt met de zorg voor hun demente en koppige vader\, Musa.
  Voorafgaand aan de film staat cabaretier Nabil Aoulad Ayad op het podium 
 met een voorstelling waarin hij op zowel indringende als humoristische wij
 ze deelt wat familie voor hem betekent\, hoe het hem heeft gevormd\, maar 
 soms ook kan beklemmen.\n\nDit middagvullende programma biedt een intieme\
 , gelaagde kijk op de complexiteit van familiebanden\, levensdilemma's en 
 de uitdagingen van mantelzorg\, rechtstreeks uit het hart van de betrokken
 en. Cabaret en film komen samen in een unieke\, onvergetelijke ervaring.\n
 \n\n\n
CATEGORIES:Cabaret,Theater
LOCATION:Zaantheater\, Nicolaasstraat 3\, Zaandam\, 1506 BB\, Nederland
X-APPLE-STRUCTURED-LOCATION;VALUE=URI;X-ADDRESS=Nicolaasstraat 3\, Zaandam\
 , 1506 BB\, Nederland;X-APPLE-RADIUS=100;X-TITLE=Zaantheater:geo:0,0
END:VEVENT
BEGIN:VTIMEZONE
TZID:Europe/Amsterdam
X-LIC-LOCATION:Europe/Amsterdam
BEGIN:STANDARD
DTSTART:20251026T020000
TZOFFSETFROM:+0200
TZOFFSETTO:+0100
TZNAME:CET
END:STANDARD
END:VTIMEZONE
END:VCALENDAR