BEGIN:VCALENDAR
VERSION:2.0
PRODID:-//wp-events-plugin.com//7.2.3.1//EN
TZID:Europe/Amsterdam
X-WR-TIMEZONE:Europe/Amsterdam
BEGIN:VEVENT
UID:36497@agenda-zaanstreek.nl
DTSTART;TZID=Europe/Amsterdam:20250406T140000
DTEND;TZID=Europe/Amsterdam:20250406T140000
DTSTAMP:20241219T105232Z
URL:https://agenda-zaanstreek.nl/events/popup-choir-the-beatles-here-comes
 -the-sun/
SUMMARY:Popup Choir: The Beatles – Here comes the sun
DESCRIPTION:\n\n\n\n\n\n\n\n\n\n\n\n\n\n\n\n\n\n\n\n\n\n\n\n\nfoto: Eduardu
 s Lee\n\nEen middag met Maarten en Tijmen is lachen\, beleven en de longen
  uit je lijf brullen. Superlekkere popnummers zingen\, twee uur lang lekke
 r gaan om uiteindelijk driestemmig een mooie song te zingen.\n\nNa een vol
 le Christmas Singalong in december\, gaan we weer lekker samen zingen. Dit
  keer zingen we ‘Here Comes The Sun’ en nog een paar andere nummers va
 n The Beatles.\n\nDus of je nou alleen onder de douche zingt\, met je vrie
 nden in de kroeg\, of helemaal nooit. Het maakt niet uit. Zij spelen. Jij 
 zingt. Ervaring is niet nodig. Succes verzekerd.\n\nTickets: € 14\,50 (+
  € 1\,00 reserveringskosten)\nTickets aan de deur: € 15\,50\n\n\n\n\n\
 n\n\n\n\n\n\nKoop tickets\n\n\n\n\n\n\n&nbsp\;\n\n\n\n\n\n\n\n\n\n&nbsp\;\
 n\n\n\n\n\n\n\n\n
CATEGORIES:Koren,Muziek
LOCATION:Cultureel Centrum Bullekerk (Westzijderkerk)\, Westzijde 75\, Zaan
 dam\, 1506 ED\, Nederland
X-APPLE-STRUCTURED-LOCATION;VALUE=URI;X-ADDRESS=Westzijde 75\, Zaandam\, 15
 06 ED\, Nederland;X-APPLE-RADIUS=100;X-TITLE=Cultureel Centrum Bullekerk (
 Westzijderkerk):geo:0,0
END:VEVENT
BEGIN:VTIMEZONE
TZID:Europe/Amsterdam
X-LIC-LOCATION:Europe/Amsterdam
BEGIN:DAYLIGHT
DTSTART:20250330T030000
TZOFFSETFROM:+0100
TZOFFSETTO:+0200
TZNAME:CEST
END:DAYLIGHT
END:VTIMEZONE
END:VCALENDAR