BEGIN:VCALENDAR
VERSION:2.0
PRODID:-//wp-events-plugin.com//7.2.3.1//EN
TZID:Europe/Amsterdam
X-WR-TIMEZONE:Europe/Amsterdam
BEGIN:VEVENT
UID:39275@agenda-zaanstreek.nl
DTSTART;TZID=Europe/Amsterdam:20250628T200000
DTEND;TZID=Europe/Amsterdam:20250628T230000
DTSTAMP:20250619T092650Z
URL:https://agenda-zaanstreek.nl/events/popquiz-thema-00s-10s/
SUMMARY:POPQUIZ - Thema: 00’s & 10’s
DESCRIPTION:\n\n\n\nTijd om je team te versterken met de jongere generatie!
  Cees neemt je mee door de 00’s &amp\; 10’s.\n\n\nTickets\n\n\n\n\n\n\
 n\n\n\n\nWaar en wanneer\n\n\n28 jun 2025\, 20:00 – 23:00\nOostzaan\, Ke
 rkbuurt 12\, 1511 BD Oostzaan\, Nederland\n\n\n\nWat ga je meemaken?\n\n\n
 \n\nStap terug in de tijd en beleef de ultieme muzikale throwback tijdens 
 de 00’s &amp\; 10’s Popquiz&nbsp\;in de sfeervolle Grote Kerk Oostzaan
 ! Een avond vol nostalgie\, waarin de grootste hits uit de jaren 2000 en 2
 010 centraal staan. Van popdiva’s en punkrockbands tot elektronische ban
 gers en emo-anthems— deze quiz neemt je mee op een muzikale reis door ee
 n iconisch tijdperk.\n\n&nbsp\;\nTest je kennis over legendarische artiest
 en\, herken de intro’s van de grootste hits en bewijs dat jij de ultieme
  00’s &amp\; 10’s muziekkenner bent! Herinner jij je nog de tijd van M
 P3-spelers\, eyeliner-drenkingen en dubstep drops? Verzamel je vrienden\, 
 vorm een team en strijd samen om de overwinning.\n\n&nbsp\;\nIn de prachti
 ge Grote Kerk Oostzaan wordt deze quiz een avond om nooit te vergeten. Zet
  je wederom schrap voor een flinke dosis nostalgie\, muziek en competitie!
 \n\n\n\n\n\n\nTickets\n\n 	\n\n\n\nSoort ticket\n\nToegangsbewijs 1 persoo
 n\n\n\n\n\nVerkoop eindigt op\n\n28 jun\, 23:00\n\n\n\nMeer info\n&nbsp\;\
 n\n\n&nbsp\;\n\n\n\n\n\n\n\n\nPrijs\n\n€&nbsp\;3\,50\n\n\n\n\n+€&nbsp\
 ;0\,09 servicekosten ticket\n\n\n\n\n\n\n\nAantal\n\n\n0\n\n\n\n\n\n\n\n\n
 \n\n&nbsp\;\n\n\n\n\n\nTotaal\n€&nbsp\;0\,00\n\n\n\nBetalen\n\n\n\n
CATEGORIES:Muziek,Spellen (bingo-bridge-etc)
LOCATION:Grote Kerk Oostzaan\, Kerkbuurt 12\, Oostzaan\, 1511 BD\, Oostzaan
 \, Nederland
X-APPLE-STRUCTURED-LOCATION;VALUE=URI;X-ADDRESS=Kerkbuurt 12\, Oostzaan\, 1
 511 BD\, Oostzaan\, Nederland;X-APPLE-RADIUS=100;X-TITLE=Grote Kerk Oostza
 an:geo:0,0
END:VEVENT
BEGIN:VTIMEZONE
TZID:Europe/Amsterdam
X-LIC-LOCATION:Europe/Amsterdam
BEGIN:DAYLIGHT
DTSTART:20250330T030000
TZOFFSETFROM:+0100
TZOFFSETTO:+0200
TZNAME:CEST
END:DAYLIGHT
END:VTIMEZONE
END:VCALENDAR