BEGIN:VCALENDAR
VERSION:2.0
PRODID:-//wp-events-plugin.com//7.2.3.1//EN
TZID:Europe/Amsterdam
X-WR-TIMEZONE:Europe/Amsterdam
BEGIN:VEVENT
UID:35910@agenda-zaanstreek.nl
DTSTART;TZID=Europe/Amsterdam:20241122T200000
DTEND;TZID=Europe/Amsterdam:20241122T200000
DTSTAMP:20241121T101108Z
URL:https://agenda-zaanstreek.nl/events/popquiz-in-cafe-fabriek/
SUMMARY:Popquiz in Café Fabriek
DESCRIPTION:De maandelijke popquiz in&nbsp\;Café Fabriek is er weer. Team 
 aanmelden gaat via&nbsp\;popquiz@cafefabriek.nll. Maximaal vijf deelnemers
  per team.\n\n&nbsp\;
CATEGORIES:Horeca,Spellen (bingo-bridge-etc)
LOCATION:Cafe Fabriek\, Jan Sijbrandsstreeg 12\, Zaandam\, 1502 BA\, Nederl
 and
X-APPLE-STRUCTURED-LOCATION;VALUE=URI;X-ADDRESS=Jan Sijbrandsstreeg 12\, Za
 andam\, 1502 BA\, Nederland;X-APPLE-RADIUS=100;X-TITLE=Cafe Fabriek:geo:0,
 0
END:VEVENT
BEGIN:VTIMEZONE
TZID:Europe/Amsterdam
X-LIC-LOCATION:Europe/Amsterdam
BEGIN:STANDARD
DTSTART:20241027T020000
TZOFFSETFROM:+0200
TZOFFSETTO:+0100
TZNAME:CET
END:STANDARD
END:VTIMEZONE
END:VCALENDAR