BEGIN:VCALENDAR
VERSION:2.0
PRODID:-//wp-events-plugin.com//7.2.3.1//EN
TZID:Europe/Amsterdam
X-WR-TIMEZONE:Europe/Amsterdam
BEGIN:VEVENT
UID:37648@agenda-zaanstreek.nl
DTSTART;TZID=Europe/Amsterdam:20250316T140000
DTEND;TZID=Europe/Amsterdam:20250316T140000
DTSTAMP:20250307T104250Z
URL:https://agenda-zaanstreek.nl/events/pop-up-koor-jisperkerk/
SUMMARY:Pop-up koor Jisperkerk
DESCRIPTION:\n&nbsp\;\n\n\n\n\n\n\n\n\nMuziek\n\n
CATEGORIES:Koren,Muziek
LOCATION:De Jisper Kerk\, Dorpsstraat 46\, Jisp\, 1546 LK\, Nederland
X-APPLE-STRUCTURED-LOCATION;VALUE=URI;X-ADDRESS=Dorpsstraat 46\, Jisp\, 154
 6 LK\, Nederland;X-APPLE-RADIUS=100;X-TITLE=De Jisper Kerk:geo:0,0
END:VEVENT
BEGIN:VTIMEZONE
TZID:Europe/Amsterdam
X-LIC-LOCATION:Europe/Amsterdam
BEGIN:STANDARD
DTSTART:20241027T020000
TZOFFSETFROM:+0200
TZOFFSETTO:+0100
TZNAME:CET
END:STANDARD
END:VTIMEZONE
END:VCALENDAR