BEGIN:VCALENDAR
VERSION:2.0
PRODID:-//wp-events-plugin.com//7.2.3.1//EN
TZID:Europe/Amsterdam
X-WR-TIMEZONE:Europe/Amsterdam
BEGIN:VEVENT
UID:37339@agenda-zaanstreek.nl
DTSTART;TZID=Europe/Amsterdam:20250220T103000
DTEND;TZID=Europe/Amsterdam:20250220T113000
DTSTAMP:20250213T112215Z
URL:https://agenda-zaanstreek.nl/events/peuterfestijn-wormer-2-t-m-4-jaar/
SUMMARY:Peuterfestijn Wormer (2 t/m 4 jaar)
DESCRIPTION:Komen jullie ook weer naar het Peuterfestijn in sporthal Wormer
  in de voorjaarsvakantie? Samen met je kindje van 2 t/m 4 jaar ga je op on
 tdekking in de sporthal.\nHeerlijk klimmen\, klauteren\, balanceren\, gooi
 en en glijden. Er zit voor iedereen wat bij. Een heerlijk uurtje bewegen s
 amen met je (klein)kind!\n\nHet Peuterfestijn is ook geschikt voor kindere
 n van 4 jaar oud die de Lentespelen nog te spannend vinden en het liefst w
 illen dat er iemand bij hun in de zaal blijft.\n\nJe hoeft alleen je (klei
 n)kind in te schrijven\, per kind komt er gratis 1 volwassen begeleider me
 e.\n\nVergeet niet sportieve kleding en zaalschoenen aan te trekken!\n\nDa
 g: donderdag 20 februari\nTijd: 10.30-11.30\nLocatie: sporthal Wormer\nKos
 ten: €3\,00 (kind + 1 volwassene)
CATEGORIES:Jeugd
LOCATION:Sporthal Wormer\, Spatterstraat 21\, Wormer\, 1531 DA\, Nederland
X-APPLE-STRUCTURED-LOCATION;VALUE=URI;X-ADDRESS=Spatterstraat 21\, Wormer\,
  1531 DA\, Nederland;X-APPLE-RADIUS=100;X-TITLE=Sporthal Wormer:geo:0,0
END:VEVENT
BEGIN:VTIMEZONE
TZID:Europe/Amsterdam
X-LIC-LOCATION:Europe/Amsterdam
BEGIN:STANDARD
DTSTART:20241027T020000
TZOFFSETFROM:+0200
TZOFFSETTO:+0100
TZNAME:CET
END:STANDARD
END:VTIMEZONE
END:VCALENDAR