BEGIN:VCALENDAR
VERSION:2.0
PRODID:-//wp-events-plugin.com//7.2.3.1//EN
TZID:Europe/Amsterdam
X-WR-TIMEZONE:Europe/Amsterdam
BEGIN:VEVENT
UID:35575@agenda-zaanstreek.nl
DTSTART;TZID=Europe/Amsterdam:20250214T201500
DTEND;TZID=Europe/Amsterdam:20250214T201500
DTSTAMP:20241031T133100Z
URL:https://agenda-zaanstreek.nl/events/peter-van-ewijk-groeiramp/
SUMMARY:Peter van Ewijk Groeiramp
DESCRIPTION:\n\n\n\n\n&nbsp\;\n\n\n\n\n\n\n\nDe gloeilamp\, de telefoon\, p
 enicilline\, de computer\, toiletpapier\, de pil: stuk voor stuk geweldige
  uitvindingen waar we nog elke dag van profiteren. Peter van Ewijk wil ook
  wel eens iets uitvinden. Of in ieder geval uitvinden welk nut hij hier op
  aarde heeft. Na twee jaar lang uitvinders en uitvindingen te hebben bestu
 deerd om er een hilarische\, multimediale cabaretvoorstelling van te maken
 \, voelt hij dat zijn langverwachte Eureka-moment eraan zit te komen.\n\n\
 nLive\, on stage\, in uw theater zal hij iets uitvinden&nbsp\;waarmee hij 
 voor eens en voor altijd het venijn uit de hedendaagse\, verwarrende\,&nbs
 p\;gepolariseerde maatschappij laat verdwijnen. De wereld zal nooit meer h
 etzelfde zijn.\n\nGeschiedenis wordt geschreven. Je zal er maar bij zijn d
 ie avond…\n\n\n 	Datum:&nbsp\; 14 februari 2025\n 	Aanvang: 20.15 uur\n 
 	Ticketprijs: € 19\,00\n 	Inclusief consumptie\n 	Cabaret\n\n\n\nTickets
  bestellen\n\n
CATEGORIES:Cabaret
LOCATION:Theater de Kaasfabriek\, Dorpsstraat 206\, Wormer\, 1531 HS\, Worm
 er\, Nederland
X-APPLE-STRUCTURED-LOCATION;VALUE=URI;X-ADDRESS=Dorpsstraat 206\, Wormer\, 
 1531 HS\, Wormer\, Nederland;X-APPLE-RADIUS=100;X-TITLE=Theater de Kaasfab
 riek:geo:0,0
END:VEVENT
BEGIN:VTIMEZONE
TZID:Europe/Amsterdam
X-LIC-LOCATION:Europe/Amsterdam
BEGIN:STANDARD
DTSTART:20241027T020000
TZOFFSETFROM:+0200
TZOFFSETTO:+0100
TZNAME:CET
END:STANDARD
END:VTIMEZONE
END:VCALENDAR