BEGIN:VCALENDAR
VERSION:2.0
PRODID:-//wp-events-plugin.com//7.2.3.1//EN
TZID:Europe/Amsterdam
X-WR-TIMEZONE:Europe/Amsterdam
BEGIN:VEVENT
UID:38976@agenda-zaanstreek.nl
DTSTART;TZID=Europe/Amsterdam:20250620T203000
DTEND;TZID=Europe/Amsterdam:20250620T203000
DTSTAMP:20250529T101257Z
URL:https://agenda-zaanstreek.nl/events/peter-pannekoek-halfjaarconference
 -try-out/
SUMMARY:Peter Pannekoek - Halfjaarconference (Try-out)
DESCRIPTION:vrijdag 20 juni 20.30 uur\nwww.theateroostzaan.nl/20-juni-2025-
 peter-pannekoek\n\n\n\n\n\n\n&nbsp\;\n\n\n\n\n\n\nPrijs: € 25.00 inclusi
 ef consumptie\nKoop tickets hier.\n\n\nPeter Pannekoek is terug met de eni
 ge echte Oudejaarsconference! In 2025 heeft hij opnieuw de eer om Nederlan
 d te trakteren op zijn visie over het afgelopen jaar. Ter voorbereiding op
  zijn Oudejaarsconference is hij komende zomer in een select aantal theate
 rs te zien met try-outs\, getiteld‘Halfjaarconference’.\n\nIn 2021 was
  zijn Oudejaarsconference een doorslaand succes. Er keken miljoenen mensen
  en hij ontving lovende recensies. Daarna stond Peter met zijn voorstellin
 g ‘DNA’ tweeënhalf jaar lang in uitverkochte zalen. Voor ‘DNA’ wo
 n hij in 2023 de Poelifinario in de categorie Engagement\, de prijs voor h
 et indrukwekkendste cabaretprogramma van het theaterseizoen. En nu gaat hi
 j dus weer het jaar onder de loep nemen. Met op vrijdag 20 juni een try-ou
 t in Theater de KunstGreep!\n\n
CATEGORIES:Cabaret
LOCATION:De KunstGreep\, Kerkbuurt 4\, Oostzaan\, 1511 BD\, Nederland
X-APPLE-STRUCTURED-LOCATION;VALUE=URI;X-ADDRESS=Kerkbuurt 4\, Oostzaan\, 15
 11 BD\, Nederland;X-APPLE-RADIUS=100;X-TITLE=De KunstGreep:geo:0,0
END:VEVENT
BEGIN:VTIMEZONE
TZID:Europe/Amsterdam
X-LIC-LOCATION:Europe/Amsterdam
BEGIN:DAYLIGHT
DTSTART:20250330T030000
TZOFFSETFROM:+0100
TZOFFSETTO:+0200
TZNAME:CEST
END:DAYLIGHT
END:VTIMEZONE
END:VCALENDAR