BEGIN:VCALENDAR
VERSION:2.0
PRODID:-//wp-events-plugin.com//7.2.3.1//EN
TZID:Europe/Amsterdam
X-WR-TIMEZONE:Europe/Amsterdam
BEGIN:VEVENT
UID:37119@agenda-zaanstreek.nl
DTSTART;TZID=Europe/Amsterdam:20250601T150000
DTEND;TZID=Europe/Amsterdam:20250601T150000
DTSTAMP:20250506T093655Z
URL:https://agenda-zaanstreek.nl/events/pedano-trio-van-klassiek-tot-chans
 on/
SUMMARY:Pedano Trio - Van Klassiek tot Chanson | Wordt UITGESTELD
DESCRIPTION:\n\nHelaas moet het concert van 1 juni van het Pedano Trio uitg
 esteld worden tot het najaar. Eén van de leden van het Trio speelt de dag
  er voor in het buitenland en kan\, door een nu al geannuleerde vlucht\, n
 iet op tijd in Wormerveer zijn. Met de bezoekers die al een ticket gekocht
  hadden wordt/is contact opgenomen.\n\nHelaas\, maar we houden het te goed
  (noteer al vast 26 oktober in uw agenda voor dit talentvolle jonge trio).
 \n&nbsp\;\n\n&nbsp\;\n\nVan klassiek tot chanson in de Wormerveerse Verman
 ing\, Zaanweg 57\, Wormerveer\n\n\nMaria en Anuschka Pedano zijn zussen en
  getalenteerde muzikanten. Ze treden al sinds hun vroege jeugd samen op. Z
 e zijn beiden eersteprijswinnaars van (internationale) concoursen en hebbe
 n gespeeld op belangrijke podia als Koninklijk Theater Carré Amsterdam\, 
 het Concertgebouw Amsterdam\, de Doelen Rotterdam\, Victoria Hall Singapor
 e. Anuschka (altviool) en Maria (hobo en zang) worden regelmatig uitgenodi
 gd voor festivals waaronder het Grachtenfestival Amsterdam\, Festival Wond
 erfeel\, Festival Jong Talent Schiermonnikoog\, het Spivakov Festival Mosk
 ou en hebben meerdere keren opgetreden bij de Nederlandse nationale televi
 sie (o.a. Podium Witteman).\nPianist Illia Fialko is afkomstig uit een zee
 r muzikale Oekraïense familie. Hij is laureaat van diverse internationale
  concoursen en geeft regelmatig concerten in Europa. Hij heeft zijn studie
  in Minsk en in Amsterdam vlot en met veel succes doorlopen en wordt inmid
 dels veel gevraagd voor diverse evenementen.\nAl bijna twee jaar vormt hij
  met de zusjes Pedano het veel gevraagde Pedano Trio waarmee hij door het 
 hele land en daarbuiten concerten geeft.Zaal open: 14.30 uur\n\n\n
CATEGORIES:Klassiek
LOCATION:Wormerveerse Vermaning\, Zaanweg 57\, Wormerveer\, 1521 DM\, Neder
 land
X-APPLE-STRUCTURED-LOCATION;VALUE=URI;X-ADDRESS=Zaanweg 57\, Wormerveer\, 1
 521 DM\, Nederland;X-APPLE-RADIUS=100;X-TITLE=Wormerveerse Vermaning:geo:0
 ,0
END:VEVENT
BEGIN:VTIMEZONE
TZID:Europe/Amsterdam
X-LIC-LOCATION:Europe/Amsterdam
BEGIN:DAYLIGHT
DTSTART:20250330T030000
TZOFFSETFROM:+0100
TZOFFSETTO:+0200
TZNAME:CEST
END:DAYLIGHT
END:VTIMEZONE
END:VCALENDAR