BEGIN:VCALENDAR
VERSION:2.0
PRODID:-//wp-events-plugin.com//7.2.3.1//EN
TZID:Europe/Amsterdam
X-WR-TIMEZONE:Europe/Amsterdam
BEGIN:VEVENT
UID:38563@agenda-zaanstreek.nl
DTSTART;TZID=Europe/Amsterdam:20251026T150000
DTEND;TZID=Europe/Amsterdam:20251026T150000
DTSTAMP:20250506T093735Z
URL:https://agenda-zaanstreek.nl/events/pedano-trio-van-klassiek-tot-chans
 on-2/
SUMMARY:Pedano Trio - Van Klassiek tot Chanson
DESCRIPTION:\n\n\n\n\n&nbsp\;\n\nVan klassiek tot chanson in de Wormerveers
 e Vermaning\, Zaanweg 57\, Wormerveer\n\n\nMaria en Anuschka Pedano zijn z
 ussen en getalenteerde muzikanten. Ze treden al sinds hun vroege jeugd sam
 en op. Ze zijn beiden eersteprijswinnaars van (internationale) concoursen 
 en hebben gespeeld op belangrijke podia als Koninklijk Theater Carré Amst
 erdam\, het Concertgebouw Amsterdam\, de Doelen Rotterdam\, Victoria Hall 
 Singapore. Anuschka (altviool) en Maria (hobo en zang) worden regelmatig u
 itgenodigd voor festivals waaronder het Grachtenfestival Amsterdam\, Festi
 val Wonderfeel\, Festival Jong Talent Schiermonnikoog\, het Spivakov Festi
 val Moskou en hebben meerdere keren opgetreden bij de Nederlandse national
 e televisie (o.a. Podium Witteman).\nPianist Illia Fialko is afkomstig uit
  een zeer muzikale Oekraïense familie. Hij is laureaat van diverse intern
 ationale concoursen en geeft regelmatig concerten in Europa. Hij heeft zij
 n studie in Minsk en in Amsterdam vlot en met veel succes doorlopen en wor
 dt inmiddels veel gevraagd voor diverse evenementen.\nAl bijna twee jaar v
 ormt hij met de zusjes Pedano het veel gevraagde Pedano Trio waarmee hij d
 oor het hele land en daarbuiten concerten geeft.Zaal open: 14.30 uur\n
CATEGORIES:Klassiek
LOCATION:Wormerveerse Vermaning\, Zaanweg 57\, Wormerveer\, 1521 DM\, Neder
 land
X-APPLE-STRUCTURED-LOCATION;VALUE=URI;X-ADDRESS=Zaanweg 57\, Wormerveer\, 1
 521 DM\, Nederland;X-APPLE-RADIUS=100;X-TITLE=Wormerveerse Vermaning:geo:0
 ,0
END:VEVENT
BEGIN:VTIMEZONE
TZID:Europe/Amsterdam
X-LIC-LOCATION:Europe/Amsterdam
BEGIN:STANDARD
DTSTART:20251026T020000
TZOFFSETFROM:+0200
TZOFFSETTO:+0100
TZNAME:CET
END:STANDARD
END:VTIMEZONE
END:VCALENDAR