BEGIN:VCALENDAR
VERSION:2.0
PRODID:-//wp-events-plugin.com//7.2.3.1//EN
TZID:Europe/Amsterdam
X-WR-TIMEZONE:Europe/Amsterdam
BEGIN:VEVENT
UID:38113@agenda-zaanstreek.nl
DTSTART;TZID=Europe/Amsterdam:20250405T180000
DTEND;TZID=Europe/Amsterdam:20250405T234500
DTSTAMP:20250403T101401Z
URL:https://agenda-zaanstreek.nl/events/paviljoen-friday-buitengewoon-fout
 -23/
SUMMARY:Paviljoen Friday: Buitengewoon Fout (23+)
DESCRIPTION:Buitengewoon Fout\nEven iets anders dan anders… iets fouter d
 an fout….’Buitengewoon fout’ en dat op&nbsp\;zaterdag!! Een avond vo
 l nostalgie en guilty pleasures die je keihard mee kan blèren.\n\nDenk aa
 n 80s &amp\; 90s pop &amp\; eurodance – Aqua\, Vengaboys\, Boom Boom Boo
 m! Meezingers &amp\; foute feestknallers – André Hazes\, ABBA\, Spice G
 irls! Cheesy love songs – Backstreet Boys\, Celine Dion… En het Meezin
 gteam voor een heerlijke karaoke vibe om de compleet te maken.&nbsp\;\n\nT
 rek je foutste outfit aan- van tijgerprint en trainingspakken tot neonjasj
 es en pailletten. Warm je stembanden op en laat je helemaal gaan!\nWat kan
  je verwachten?\nVanaf 18:00 uur openen de deuren en het feest gaat door t
 ot 00:00 uur. We starten de middag met lekkere streetfood en de&nbsp\;line
 -up bestaat uit DJ Stefan Thomas en Het Meezingteam!\nKaartverkoop\nDe kaa
 rtverkoop verloopt in drie rondes en start op&nbsp\;zaterdag 22 februari&n
 bsp\;om 16:00 uur. Met een beperkt aantal tickets beschikbaar\, wil je er 
 snel bij zijn! De minimale leeftijd om binnen te komen is&nbsp\;23 jaar. V
 ergeet je ID niet\, want die kan bij de ingang worden gevraagd.\n\nKom lan
 gs met je guilty pleasure partner-in-crime. Het wordt een avond vol feest\
 , muziek en gezelligheid en wil je dus niet missen!
CATEGORIES:Muziek
LOCATION:Het Twiske\, De Noorderlaaik 1\, Oostzaan\, 1511 BX\, Nederland
X-APPLE-STRUCTURED-LOCATION;VALUE=URI;X-ADDRESS=De Noorderlaaik 1\, Oostzaa
 n\, 1511 BX\, Nederland;X-APPLE-RADIUS=100;X-TITLE=Het Twiske:geo:0,0
END:VEVENT
BEGIN:VTIMEZONE
TZID:Europe/Amsterdam
X-LIC-LOCATION:Europe/Amsterdam
BEGIN:DAYLIGHT
DTSTART:20250330T030000
TZOFFSETFROM:+0100
TZOFFSETTO:+0200
TZNAME:CEST
END:DAYLIGHT
END:VTIMEZONE
END:VCALENDAR