BEGIN:VCALENDAR
VERSION:2.0
PRODID:-//wp-events-plugin.com//7.2.3.1//EN
TZID:Europe/Amsterdam
X-WR-TIMEZONE:Europe/Amsterdam
BEGIN:VEVENT
UID:39115@agenda-zaanstreek.nl
DTSTART;TZID=Europe/Amsterdam:20250706T130000
DTEND;TZID=Europe/Amsterdam:20250706T170000
DTSTAMP:20250612T071816Z
URL:https://agenda-zaanstreek.nl/events/parkfestival-in-het-agathepark-in-
 krommenie/
SUMMARY:Parkfestival in het Agathepark in Krommenie
DESCRIPTION:\n\nOp zondagmiddag 6 juli kan iedereen die van muziek houdt ge
 nieten van het parkfestival dat muziekvereniging Onderling Genoegen jaarli
 jks organiseert. Een middag vol muziek in de muziektent van het prachtige 
 Agathepark in Krommenie\, waarbij liefhebbers van harmonie\, fanfare en br
 assband hun hart op kunnen halen.\n\nRespectievelijk zullen optreden: Cres
 cendo Assendelft\, Opleidingsorkest Onderling Genoegen\, Brassband Eensgez
 indheid Wormer\, Saens Harmonie Orkest\, Alkmaar Brass &amp\; als afsluite
 r Fanfareorkest Onderling Genoegen.\n\nHet Parkfestival begint om 13.00 uu
 r en duurt tot ca 17:00 uur. De toegang is gratis. Het adres van het Agath
 epark is Eikelaan 51\, 1561 CB Krommenie.\n\n&nbsp\;
CATEGORIES:Muziek
LOCATION:Agathepark\, Parklaan\, Krommenie\, 1561 CM\, Krommenie\, Nederlan
 d
X-APPLE-STRUCTURED-LOCATION;VALUE=URI;X-ADDRESS=Parklaan\, Krommenie\, 1561
  CM\, Krommenie\, Nederland;X-APPLE-RADIUS=100;X-TITLE=Agathepark:geo:0,0
END:VEVENT
BEGIN:VTIMEZONE
TZID:Europe/Amsterdam
X-LIC-LOCATION:Europe/Amsterdam
BEGIN:DAYLIGHT
DTSTART:20250330T030000
TZOFFSETFROM:+0100
TZOFFSETTO:+0200
TZNAME:CEST
END:DAYLIGHT
END:VTIMEZONE
END:VCALENDAR