BEGIN:VCALENDAR
VERSION:2.0
PRODID:-//wp-events-plugin.com//7.2.3.1//EN
TZID:Europe/Amsterdam
X-WR-TIMEZONE:Europe/Amsterdam
BEGIN:VEVENT
UID:38170@agenda-zaanstreek.nl
DTSTART;TZID=Europe/Amsterdam:20250412T110000
DTEND;TZID=Europe/Amsterdam:20250412T130000
DTSTAMP:20250410T074933Z
URL:https://agenda-zaanstreek.nl/events/paasfeest-speeltuinvereniging-ther
 esia/
SUMMARY:Paasfeest speeltuinvereniging Theresia
DESCRIPTION:\nDrie jaar geleden\, in 2022 hebben wij voor de eerste keer ee
 n een paasfeest in de speeltuin georganiseerd.&nbsp\; Dit bestond uit het 
 knutselen van een paasmandje en eieren zoeken in de speeltuin.&nbsp\; De a
 nimo was groot\, het leverde meer dan 50 kinderen op.&nbsp\; Voor herhalin
 g vatbaar dus.&nbsp\; In 2023 werd het knutselen vervangen door het versie
 ren van een echt houten paashaas en hadden we ook spelletjes op het parkee
 rterrein.&nbsp\; De grootste attraktie was nogsteeds het paaseieren zoeken
  in de speeltuin. D aanhangwagen gevuld met stroo of de bosjes doorzoeken 
 leverde fanatieke taferelen op.\n\n\n\n\nZaterdag 12 april is het weer zov
 er:&nbsp\; tussen 11.00 uur en 13.00 uur organiseren wij opnieuw een paasf
 eest.\n\nBen jij tussen de 3 en 10 jaar\, geef je dan op via mail&nbsp\;&n
 bsp\;speeltuintheresia@gmail.com\n\nDoe dit voor 6 april\, in de voorverko
 op zijn de kosten €2\,00\,\n\nAan de deur zijn de kosten €3\,00 mits e
 r nog plaats is.\n\nVeel plezier met het versieren van je eigen paashaas e
 n het eieren zoeken!\n\n\n\n
CATEGORIES:Jeugd
LOCATION:Sporthal De Struijck\, Prof. Struijckenstraat 19\, Zaandam\,\, 150
 2 BL\, Nederland
X-APPLE-STRUCTURED-LOCATION;VALUE=URI;X-ADDRESS=Prof. Struijckenstraat 19\,
  Zaandam\,\, 1502 BL\, Nederland;X-APPLE-RADIUS=100;X-TITLE=Sporthal De St
 ruijck:geo:0,0
END:VEVENT
BEGIN:VTIMEZONE
TZID:Europe/Amsterdam
X-LIC-LOCATION:Europe/Amsterdam
BEGIN:DAYLIGHT
DTSTART:20250330T030000
TZOFFSETFROM:+0100
TZOFFSETTO:+0200
TZNAME:CEST
END:DAYLIGHT
END:VTIMEZONE
END:VCALENDAR