BEGIN:VCALENDAR
VERSION:2.0
PRODID:-//wp-events-plugin.com//7.2.3.1//EN
TZID:Europe/Amsterdam
X-WR-TIMEZONE:Europe/Amsterdam
BEGIN:VEVENT
UID:38243@agenda-zaanstreek.nl
DTSTART;TZID=Europe/Amsterdam:20250420T100000
DTEND;TZID=Europe/Amsterdam:20250420T100000
DTSTAMP:20250417T141540Z
URL:https://agenda-zaanstreek.nl/events/paas-party-op-de-boerderij/
SUMMARY:Paas-Party op de boerderij
DESCRIPTION:\n\n\n\n\n\n&nbsp\;\n\n\n\n\n\n\n\n\n\n\n\n\n\nAanstaande weeke
 nd is het weer Pasen! Op eerste Paasdag (zondag 20 april) vieren wij altij
 d de verjaardag van onze beroemde Zaanse kip Tante Clara. Je bent van hart
 e welkom vanaf 10.00 uur. Rond 13.00 beginnen we met allerlei leuke activi
 teiten in en rond de natuurspeeltuin. Zo kun je op eierjacht vanaf 13.00 u
 ur. We verstoppen een enorme lading\, dus er is vast voor iedereen wel een
  eitje te vinden.\n\n\n\n\n\n\n\n\n\n\n\n\n\n\n\n\nNa het eieren zoeken zi
 jn er nog diverse andere activiteiten (ook in ons eigen Natuurmuseum). Het
  wordt heerlijk weer\, dus het is sowieso een feestje om langs te komen! R
 ond 17.00 uur sluiten we de poorten en kan Tante Clara – languit in het 
 hooi of voor zich uit suffend op haar stok – nog ’s effe lekker nageni
 eten van haar Paas Party.\n\n\n\n\n\n\n\n
CATEGORIES:Jeugd
LOCATION:Stadsboerderij\, De Weer 31\, Zaandam\, 1504 AH\, Nederland
X-APPLE-STRUCTURED-LOCATION;VALUE=URI;X-ADDRESS=De Weer 31\, Zaandam\, 1504
  AH\, Nederland;X-APPLE-RADIUS=100;X-TITLE=Stadsboerderij:geo:0,0
END:VEVENT
BEGIN:VTIMEZONE
TZID:Europe/Amsterdam
X-LIC-LOCATION:Europe/Amsterdam
BEGIN:DAYLIGHT
DTSTART:20250330T030000
TZOFFSETFROM:+0100
TZOFFSETTO:+0200
TZNAME:CEST
END:DAYLIGHT
END:VTIMEZONE
END:VCALENDAR