BEGIN:VCALENDAR
VERSION:2.0
PRODID:-//wp-events-plugin.com//7.2.3.1//EN
TZID:Europe/Amsterdam
X-WR-TIMEZONE:Europe/Amsterdam
BEGIN:VEVENT
UID:36528@agenda-zaanstreek.nl
DTSTART;TZID=Europe/Amsterdam:20250515T200000
DTEND;TZID=Europe/Amsterdam:20250515T200000
DTSTAMP:20241221T155650Z
URL:https://agenda-zaanstreek.nl/events/oxygen-delusion-ii-the-final-chapt
 er/
SUMMARY:Oxygen - Delusion II – The Final Chapter
DESCRIPTION:\n\n\n\n&nbsp\;\n\nJennifer Romen (Maastricht\, 1996) is een jo
 nge\, ambitieuze choreograaf die met haar gezelschap Oxygen indruk maakt m
 et visueel werk vol gedetailleerde choreografieën en beeldende illusies. 
 Tijdens haar eerste avondvullende voorstelling&nbsp\;Delusion&nbsp\;bespee
 lde ze zowel het podium als de zaal en wist ze het&nbsp\;publiek uit het p
 luche te krijgen. Dat smaakte naar meer.\n\n\n\n\n\n\nIn&nbsp\;Delusion 2.
 0&nbsp\;word je&nbsp\;meegenomen in een next level samenspel tussen dans e
 n illusie\,&nbsp\;in een adembenemende\, vernieuwende vorm van theater. De
  voorstelling gaat verder waar de vorige eindigde. Het personage staat in 
 dit tweede deel oog in oog met haar grootste tegenpool. Is het een tegenst
 ander waar ze van moet winnen\, of een deel van zichzelf dat ze moet leren
  accepteren en zelfs omarmen?\n\nChoreografe Jennifer Romen maakt opnieuw 
 gebruik van blacklight\, schaduwspel en projecties om het publiek ongrijpb
 are illusies te tonen.&nbsp\;Door een spannend spel tussen de dansers en h
 et licht en de ongekend strakke choreografieën zul je omver geblazen word
 en.&nbsp\;&nbsp\;\n\nOver Oxygen\nJennifer richtte in 2015 danscrew Oxygen
  op. Oxygen won het NK\, EK én WK Small Group HipHop. In 2018 wonnen ze h
 et televisieprogramma&nbsp\;Dance As One&nbsp\;en kregen ze een Golden Buz
 zer tijdens de auditie voor&nbsp\;France Got Talent. In 2020 behaalden ze 
 de finale van het NBC programma&nbsp\;World of Dance&nbsp\;in Amerika.\n\n
 \n&nbsp\;\n\n\n\n\n\n\ndo15 mei 202520.00Albert HeijnzaalBestel\n\n
CATEGORIES:Dans
LOCATION:Zaantheater\, Nicolaasstraat 3\, Zaandam\, 1506 BB\, Nederland
X-APPLE-STRUCTURED-LOCATION;VALUE=URI;X-ADDRESS=Nicolaasstraat 3\, Zaandam\
 , 1506 BB\, Nederland;X-APPLE-RADIUS=100;X-TITLE=Zaantheater:geo:0,0
END:VEVENT
BEGIN:VTIMEZONE
TZID:Europe/Amsterdam
X-LIC-LOCATION:Europe/Amsterdam
BEGIN:DAYLIGHT
DTSTART:20250330T030000
TZOFFSETFROM:+0100
TZOFFSETTO:+0200
TZNAME:CEST
END:DAYLIGHT
END:VTIMEZONE
END:VCALENDAR