BEGIN:VCALENDAR
VERSION:2.0
PRODID:-//wp-events-plugin.com//7.2.3.1//EN
TZID:Europe/Amsterdam
X-WR-TIMEZONE:Europe/Amsterdam
BEGIN:VEVENT
UID:37328@agenda-zaanstreek.nl
DTSTART;TZID=Europe/Amsterdam:20250219T083000
DTEND;TZID=Europe/Amsterdam:20250331T170000
DTSTAMP:20250213T103220Z
URL:https://agenda-zaanstreek.nl/events/overzichtstentoonstelling-pam-wess
 els/
SUMMARY:Overzichtstentoonstelling Pam Wessels
DESCRIPTION:Van 19 februari tot en met 31 maart is in theater De KunstGreep
  de tentoonstelling ‘An Artist’s Diary’ te zien\, een overzicht van 
 het werk van beeldend kunstenaar Pam Wessels. Haar schilderijen en textiel
 werken nemen de bezoeker mee in een wereld van herinneringen\, verhalen en
  tijdloze beelden.\n\n\nPam Wessels.&nbsp\;(Foto: aangeleverd)\nDe exposit
 ie is gratis te bezoeken tijdens de openingstijden van Dee KunstGreep: maa
 ndag\, dinsdag\, donderdag: 08.30 17.00 uur\, woensdag: 08.30 - 19.00 uur\
 , vrijdag: 08.30 - 12.00 uur. Daarnaast geopend tijdens activiteiten en th
 eatervoorstellingen.\nBron: Overzichtstentoonstelling Pam Wessels | Al het
  nieuws uit Oostzaan
CATEGORIES:Expositie
LOCATION:De KunstGreep\, Kerkbuurt 4\, Oostzaan\, 1511 BD\, Nederland
X-APPLE-STRUCTURED-LOCATION;VALUE=URI;X-ADDRESS=Kerkbuurt 4\, Oostzaan\, 15
 11 BD\, Nederland;X-APPLE-RADIUS=100;X-TITLE=De KunstGreep:geo:0,0
END:VEVENT
BEGIN:VTIMEZONE
TZID:Europe/Amsterdam
X-LIC-LOCATION:Europe/Amsterdam
BEGIN:STANDARD
DTSTART:20241027T020000
TZOFFSETFROM:+0200
TZOFFSETTO:+0100
TZNAME:CET
END:STANDARD
BEGIN:DAYLIGHT
DTSTART:20250330T030000
TZOFFSETFROM:+0100
TZOFFSETTO:+0200
TZNAME:CEST
END:DAYLIGHT
END:VTIMEZONE
END:VCALENDAR