BEGIN:VCALENDAR
VERSION:2.0
PRODID:-//wp-events-plugin.com//7.2.3.1//EN
TZID:Europe/Amsterdam
X-WR-TIMEZONE:Europe/Amsterdam
BEGIN:VEVENT
UID:38427@agenda-zaanstreek.nl
DTSTART;TZID=Europe/Amsterdam:20250612T193000
DTEND;TZID=Europe/Amsterdam:20250612T193000
DTSTAMP:20250428T075232Z
URL:https://agenda-zaanstreek.nl/events/orgelconcert-met-rien-donkersloot-
 in-de-oostzijderkerk-2/
SUMMARY:Orgelconcert met Joost van Beek in de Oostzijderkerk
DESCRIPTION:donderdag 12 juni 2025 \, 19:30 uur\n\nOostzijderkerk\n\n\nJe b
 ent van harte welkom bij de orgelconcerten in de serie 2025 in de Oostzijd
 erkerk in Zaandam.\n\n\n\n\nDit is de tweede in de serie met Joost van Bee
 k\n\n\n\n\n
CATEGORIES:Klassiek,Muziek
LOCATION:Oostzijderkerk\, Zuiddijk 1\, Zaandam\, 1501 CA\, Nederland
X-APPLE-STRUCTURED-LOCATION;VALUE=URI;X-ADDRESS=Zuiddijk 1\, Zaandam\, 1501
  CA\, Nederland;X-APPLE-RADIUS=100;X-TITLE=Oostzijderkerk:geo:0,0
END:VEVENT
BEGIN:VTIMEZONE
TZID:Europe/Amsterdam
X-LIC-LOCATION:Europe/Amsterdam
BEGIN:DAYLIGHT
DTSTART:20250330T030000
TZOFFSETFROM:+0100
TZOFFSETTO:+0200
TZNAME:CEST
END:DAYLIGHT
END:VTIMEZONE
END:VCALENDAR