BEGIN:VCALENDAR
VERSION:2.0
PRODID:-//wp-events-plugin.com//7.2.3.1//EN
TZID:Europe/Amsterdam
X-WR-TIMEZONE:Europe/Amsterdam
BEGIN:VEVENT
UID:34191@agenda-zaanstreek.nl
DTSTART;TZID=Europe/Amsterdam:20241117T170000
DTEND;TZID=Europe/Amsterdam:20241117T170000
DTSTAMP:20240811T102200Z
URL:https://agenda-zaanstreek.nl/events/oratorium-de-doper-2-2-2/
SUMMARY:Oratorium ‘De Doper’
DESCRIPTION: \n\nOp zondag 2 juni om 20.00 uur vindt in de Protestantse Ker
 k\, Dorpsstraat 364 te Assendelft de première plaats van oratorium ‘De 
 Doper’ geschreven door componist/musicus Jos Martens op teksten van Bart
  Vijfvinkel\, predikant te Wormer.\n\nEerder schreven Martens en Vijfvinke
 l ‘Micha. Een Zangstuk’\, een werk over de Joodse profeet Micha en zij
 n schreeuw om gerechtigheid en vrede. De afgelopen jaren hebben zij gewerk
 t aan ‘De Doper’.&nbsp\;\n\nCentraal in dit stuk staat Johannes de Dop
 er\, een prediker en profeet. Hij roept op tot `omkeer\, nieuw leven` en w
 ijst – net als de oudtestamentische profeten – op een andere werkelijk
 heid.&nbsp\;&nbsp\;\n\nJohannes wijst daarbij van zich af op Jezus\, in wi
 e die andere werkelijkheid – dat nieuwe leven – &nbsp\;aan de dag tree
 dt.\n\nDe doop van Jezus door Johannes markeert niet alleen het begin van 
 zijn optreden\, maar staat ook voor ‘doortocht’ en voor uittocht uit o
 nmenselijke verhoudingen naar een hernieuwd bestaan.\n\nHet verhaal van Jo
 hannes wordt door de vier evangelisten op een verschillende manier verteld
 .\nIn ‘De Doper’ zijn de verschillende teksten over hem naast elkaar g
 eplaatst en worden ze door het koor becommentarieerd. Het stuk begint met 
 de vraag wat deze zonderling/profeet gehoord en gezien heeft… een vreemd
 e stem\, een mens van liefde en trouw\, een levend woord sterker dan duist
 er en dood.\n\nOratorium ‘De Doper’\, muziek Jos Martens\, tekst Bart 
 Vijfvinkel\n\nProjectkoor ‘De Doper’ o.l.v. Jos Martens\n\nIke Wolters
 \, piano\n\nAlice Ploeg \, fluit\n\nLezingen: Annelieke Wiegman\n\n&nbsp\;
 &nbsp\; Toegang gratis / deurcollecte\n\nUitvoeringen:\n\n 	Zondag 2 juni 
 2024\, 20.00 uur\, Protestantse Kerk\, Dorpsstraat 364\, Assendelft (Premi
 ère)\n 	Zondag 23 juni 2024\, rond de naamdag van Johannes de Doper\, 20.
 00 uur\, RK Petruskerk\, Snuiverstraat 2\, Krommenie\n 	Zondag 15 septembe
 r 2024\, 14.30 uur\, Protestantse Kerk Wormerveer\n 	Zondag 17 november 20
 24\, 17.00 uur\, Grote Kerk Westzaan\n\nProjectkoor De Doper is een ad hoc
  koor van mensen – kerkelijk en niet kerkelijk – uit de hele Zaanstree
 k. Mocht u dit bijzondere en verbindende project financieel willen onderst
 eunen dan is uw gift welkom op NL17 INGB 0006 1816 21 t.n.v. Protestantse 
 Gemeente Wormerveer onder vermelding van ‘De Doper’.\n\n&nbsp\;
CATEGORIES:Interkerkelijk,Klassiek
LOCATION:Grote Kerk Westzaan\, Kerkbuurt 37\, Westzaan\, 1551 AB\, Nederlan
 d
X-APPLE-STRUCTURED-LOCATION;VALUE=URI;X-ADDRESS=Kerkbuurt 37\, Westzaan\, 1
 551 AB\, Nederland;X-APPLE-RADIUS=100;X-TITLE=Grote Kerk Westzaan:geo:0,0
END:VEVENT
BEGIN:VTIMEZONE
TZID:Europe/Amsterdam
X-LIC-LOCATION:Europe/Amsterdam
BEGIN:STANDARD
DTSTART:20241027T020000
TZOFFSETFROM:+0200
TZOFFSETTO:+0100
TZNAME:CET
END:STANDARD
END:VTIMEZONE
END:VCALENDAR